BEGIN:VCALENDAR
VERSION:2.0
PRODID:-//ViviBollate - ECPv6.15.13//NONSGML v1.0//EN
CALSCALE:GREGORIAN
METHOD:PUBLISH
X-WR-CALNAME:ViviBollate
X-ORIGINAL-URL:https://vivibollate.it
X-WR-CALDESC:Eventi per ViviBollate
REFRESH-INTERVAL;VALUE=DURATION:PT1H
X-Robots-Tag:noindex
X-PUBLISHED-TTL:PT1H
BEGIN:VTIMEZONE
TZID:Europe/Rome
BEGIN:DAYLIGHT
TZOFFSETFROM:+0100
TZOFFSETTO:+0200
TZNAME:CEST
DTSTART:20220327T010000
END:DAYLIGHT
BEGIN:STANDARD
TZOFFSETFROM:+0200
TZOFFSETTO:+0100
TZNAME:CET
DTSTART:20221030T010000
END:STANDARD
BEGIN:DAYLIGHT
TZOFFSETFROM:+0100
TZOFFSETTO:+0200
TZNAME:CEST
DTSTART:20230326T010000
END:DAYLIGHT
BEGIN:STANDARD
TZOFFSETFROM:+0200
TZOFFSETTO:+0100
TZNAME:CET
DTSTART:20231029T010000
END:STANDARD
BEGIN:DAYLIGHT
TZOFFSETFROM:+0100
TZOFFSETTO:+0200
TZNAME:CEST
DTSTART:20240331T010000
END:DAYLIGHT
BEGIN:STANDARD
TZOFFSETFROM:+0200
TZOFFSETTO:+0100
TZNAME:CET
DTSTART:20241027T010000
END:STANDARD
BEGIN:DAYLIGHT
TZOFFSETFROM:+0100
TZOFFSETTO:+0200
TZNAME:CEST
DTSTART:20250330T010000
END:DAYLIGHT
BEGIN:STANDARD
TZOFFSETFROM:+0200
TZOFFSETTO:+0100
TZNAME:CET
DTSTART:20251026T010000
END:STANDARD
END:VTIMEZONE
BEGIN:VTIMEZONE
TZID:UTC
BEGIN:STANDARD
TZOFFSETFROM:+0000
TZOFFSETTO:+0000
TZNAME:UTC
DTSTART:20210101T000000
END:STANDARD
END:VTIMEZONE
BEGIN:VEVENT
DTSTART;TZID=Europe/Rome:20240607T180000
DTEND;TZID=Europe/Rome:20240607T200000
DTSTAMP:20260421T205454
CREATED:20240528T100016Z
LAST-MODIFIED:20240530T072025Z
UID:2813-1717783200-1717790400@vivibollate.it
SUMMARY:UN pensiero ALLE RAGAZZE - 7 GIUGNO 2024
DESCRIPTION:Castellazzo di Bollate | Venerdì 7 giugno \n7 giugno: una passeggiata collettiva in ricordo dell’esplosione del polverificio Sutter & Thevenot di Castellazzo. \nVenerdì 7 giugno una camminata ricorderà l’episodio dello scoppio della Fabbrica Sutter & Thévenot\, avvenuto nel 1918 a Castellazzo di Bollate\, raggiungendo i luoghi dei fatti. Un invito non solo alla sensibilizzazione su temi importanti come il lavoro ed il ruolo civile e sociale delle donne\, ma soprattutto al ricordo delle 59 vittime\, per la maggior parte donne\, che persero la vita durante lo scoppio della fabbrica di munizioni in pieno periodo bellico. \nLa passeggiata partirà\, come lo scorso anno da Via San Pietro\, nel parcheggio della stazione di Bollate Nord\, e il percorso sarà scandito da alcune tappe in cui verranno letti brani tratti dal romanzo “La fabbrica delle ragazze” di Ilaria Rossetti\, che fa rivivere tra le sue pagine proprio quei luoghi che furono teatro della tragedia nel ricordo di tante giovani vite spezzate.                  L’arrivo alla cabina elettrica\, unico manufatto dell’epoca rimasto presente sul luogo e testimone dei fatti\, concluderà l’evento\, con l’intervento dell’Assessora alla Cultura e Pace. \n  \nPROGRAMMA \nOre 17.45     Ritrovo presso il parcheggio della stazione di Bollate Nord\, Via San Pietro.\nOre 18.00    Partenza del gruppo\nOre 19.00    Arrivo al murale della cabina elettrica\nOre 20.00   Ritorno in via San Pietro \n  \nIniziativa gratuita. \nInfo presso l’Ufficio Cultura del Comune di Bollate | 02.35005575 | cultura@comune.bollate.mi.it \n  \nSi ringrazia la Fondazione Augusto Rancilio\, di Villa Arconati per la collaborazione.
URL:https://vivibollate.it/evento/un-pensiero-alle-ragazze/
LOCATION:Cantun Sciatin\, Bollate
CATEGORIES:Passeggiate,storia
ATTACH;FMTTYPE=image/jpeg:https://vivibollate.it/wp-content/uploads/2024/05/post-7-giugno.jpg
ORGANIZER;CN="Assessorato alla Cultura e Pace":MAILTO:cultura@comune.bollate.mi.it
END:VEVENT
BEGIN:VEVENT
DTSTART;TZID=Europe/Rome:20230520T094500
DTEND;TZID=Europe/Rome:20230520T170000
DTSTAMP:20260421T205454
CREATED:20230428T095351Z
LAST-MODIFIED:20230428T095351Z
UID:2286-1684575900-1684602000@vivibollate.it
SUMMARY:Visita guidata nella Milano Manzoniana
DESCRIPTION:Tornano le iniziative a tema Manzoniano con un itinerario nella Milano manzoniana\, per ripercorrere e visitare i luoghi incontrati da Renzo al suo arrivo a Milano\, a quel tempo piagata dalla peste e dalle rivolte popolari per il pane\, ma anche per passeggiare nel quartiere di Alessandro Manzoni e visitare la sua casa a pochi passi da Piazza della Scala e Palazzo Marino. \n▪ Ore 9\,45 – ritrovo in stazione Bollate centro\n▪ Ore 9\,55 – treno passante per Lodi – fermata Porta Venezia.\n▪ Arrivo a Porta Venezia e visita al cortile di Palazzo Luraschi\, il cosiddetto palazzo dei Promessi Sposi; visita della chiesa di San Carlo al Lazzaretto e dell’ultimo nucleo di cellette rimasto integro di quello che fu il Lazzaretto in via San Gregorio.\n▪ Pausa pranzo libera\n▪ Ore 14 – visita guidata alla casa di Alessandro Manzoni in via Morone e dei dintorni di piazza San Fedele\, con la chiesa omonima\, frequentata dall’autore. \nCosto dell’iniziativa per ciascun partecipante: 10 euro per la visita a casa Manzoni oltre i biglietti ferroviari.\nDisponibilità: 25 posti\nInfo e prenotazioni presso l’Ufficio Cultura del Comune di Bollate (0235005575 – cultura@comune.bollate.mi.it)
URL:https://vivibollate.it/evento/visita-guidata-nella-milano-manzoniana/
LOCATION:Milano\, Milano\, 20121\, Italia
CATEGORIES:Adulti,gruppo di lettura,letteratura,Passeggiate,romanzo,storia
ATTACH;FMTTYPE=image/jpeg:https://vivibollate.it/wp-content/uploads/2023/04/MANZONI.jpeg
ORGANIZER;CN="Assessorato alla Cultura e Pace":MAILTO:cultura@comune.bollate.mi.it
END:VEVENT
BEGIN:VEVENT
DTSTART;TZID=UTC:20221002T093000
DTEND;TZID=UTC:20221002T150000
DTSTAMP:20260421T205454
CREATED:20220913T094606Z
LAST-MODIFIED:20220913T094606Z
UID:1847-1664703000-1664722800@vivibollate.it
SUMMARY:Passeggiata d'autunno al Castellazzo di Bollate - 2 ottobre
DESCRIPTION:Domenica 2 ottobre\, in occasione dell’evento E-PIC LAND X VILLE APERTE\, vi accompagneremo nei percorsi intorno a Villa Arconati\,  passeggiando nelle brughiere del Parco delle Groane per l’ultimo appuntamento delle Passeggiate al Castellazzo di Bollate. \nISCRIZIONE OBBLIGATORIA QUI: https://www.eventbrite.it/e/biglietti-passeggiata-dautunno-411955268297 \nPer il programma completo di E-PIC LAND X VILLE APERTE vai al link → https://www.facebook.com/events/2114119148772658/?acontext=%7B%22ref%22%3A%2252%22%2C%22action_history%22%3A%22[%7B%5C%22surface%5C%22%3A%5C%22share_link%5C%22%2C%5C%22mechanism%5C%22%3A%5C%22share_link%5C%22%2C%5C%22extra_data%5C%22%3A%7B%5C%22invite_link_id%5C%22%3A765732344718435%7D%7D]%22%7D \nRITROVO | ore 9:15 presso la stazione FN di Bollate Nord \nPARTENZA | ore 9:30 \nARRIVO IN VILLA | ore 11.00 \nTOUR GUIDATO al Giardino di Villa Arconati | ore 12:30 – (durata 20 minuti ca.) \nRIENTRO | ore 15.00 per chi vorrà partecipare agli eventi in villa\, o libero in qualsiasi momento.
URL:https://vivibollate.it/evento/passeggiata-dautunno-al-castellazzo-di-bollate-2-ottobre/
LOCATION:Castellazzo di Bollate\, Via Cascina Prevosta\, Bollate\, Milano\, 20021\, Italia
CATEGORIES:Castellazzo,Passeggiate,storia,Villa Arconati
ATTACH;FMTTYPE=application/pdf:https://vivibollate.it/wp-content/uploads/2022/09/evento-fb-autunno_compressed.pdf
END:VEVENT
END:VCALENDAR