BEGIN:VCALENDAR
VERSION:2.0
PRODID:-//ViviBollate - ECPv6.15.13//NONSGML v1.0//EN
CALSCALE:GREGORIAN
METHOD:PUBLISH
X-WR-CALNAME:ViviBollate
X-ORIGINAL-URL:https://vivibollate.it
X-WR-CALDESC:Eventi per ViviBollate
REFRESH-INTERVAL;VALUE=DURATION:PT1H
X-Robots-Tag:noindex
X-PUBLISHED-TTL:PT1H
BEGIN:VTIMEZONE
TZID:Europe/Rome
BEGIN:DAYLIGHT
TZOFFSETFROM:+0100
TZOFFSETTO:+0200
TZNAME:CEST
DTSTART:20240331T010000
END:DAYLIGHT
BEGIN:STANDARD
TZOFFSETFROM:+0200
TZOFFSETTO:+0100
TZNAME:CET
DTSTART:20241027T010000
END:STANDARD
BEGIN:DAYLIGHT
TZOFFSETFROM:+0100
TZOFFSETTO:+0200
TZNAME:CEST
DTSTART:20250330T010000
END:DAYLIGHT
BEGIN:STANDARD
TZOFFSETFROM:+0200
TZOFFSETTO:+0100
TZNAME:CET
DTSTART:20251026T010000
END:STANDARD
BEGIN:DAYLIGHT
TZOFFSETFROM:+0100
TZOFFSETTO:+0200
TZNAME:CEST
DTSTART:20260329T010000
END:DAYLIGHT
BEGIN:STANDARD
TZOFFSETFROM:+0200
TZOFFSETTO:+0100
TZNAME:CET
DTSTART:20261025T010000
END:STANDARD
BEGIN:DAYLIGHT
TZOFFSETFROM:+0100
TZOFFSETTO:+0200
TZNAME:CEST
DTSTART:20270328T010000
END:DAYLIGHT
BEGIN:STANDARD
TZOFFSETFROM:+0200
TZOFFSETTO:+0100
TZNAME:CET
DTSTART:20271031T010000
END:STANDARD
END:VTIMEZONE
BEGIN:VEVENT
DTSTART;VALUE=DATE:20250416
DTEND;VALUE=DATE:20250417
DTSTAMP:20260419T161545
CREATED:20250408T071515Z
LAST-MODIFIED:20250408T071515Z
UID:3276-1744761600-1744847999@vivibollate.it
SUMMARY:Presentazione del poemetto "ANNA COME TANTI"
DESCRIPTION:16 Aprile\, ore  21 – Sala Consiglio comunale (Piazza Aldo Moro) \n  \n  \nANNA COME TANTI \nUn racconto in versi che ricorda l’esperienza partigiana di alcuni cittadini bollatesi. Quattro storie\, quattro persone “comuni”\, diversissime tra loro\, con ideali\, formazione\, ed aspirazioni diverse\, ma uniti da un percorso che ha fatto la differenza nella loro vicenda umana e in quella del nostro Paese. \nCosì Gianfranco Morelli\, docente di lettere in pensione\, leccese d’origine\, solarese d’adozione\, per anni consigliere comunale\, assessore e presidente del consiglio comunale\, conoscitore appassionato di vicende storiche locali\, ha scelto di raccontare un altro pezzo di Resistenza\, all’approssimarsi dell’ottantesimo anniversario della Liberazione\, portando alla luce le vicende di Mario Rebosio\, Remo Merati\, Anna Rebosio e don Carlo Elli\, di Bollate.  \n  \nParteciperà al dibattito l’ex Ministro della sanità e attuale Presidente nazionale ANPC Mariapia Garavaglia. \nInterverranno Gianfranco Morelli e Giuseppe Nigro. \n  \n“Ho voluto dar voce a queste storie per ricordare la pluralità della Resistenza\, contrastando quel tentativo di una sorta privatizzazione di questa straordinaria esperienza collettiva a cui abbiamo assistito negli ultimi anni” –  Gianfranco Morelli. \n  \nIngresso libero
URL:https://vivibollate.it/evento/presentazione-del-poemetto-anna-come-tanti/
LOCATION:Comune di Bollate\, Bollate\, Milano\, 20021\, Italia
CATEGORIES:Adulti,presentazione libro
ATTACH;FMTTYPE=image/jpeg:https://vivibollate.it/wp-content/uploads/2025/04/WhatsApp-Image-2025-04-08-at-09.14.44.jpeg
END:VEVENT
BEGIN:VEVENT
DTSTART;TZID=Europe/Rome:20250426T180000
DTEND;TZID=Europe/Rome:20250426T180000
DTSTAMP:20260419T161545
CREATED:20250414T064302Z
LAST-MODIFIED:20250414T064302Z
UID:3252-1745690400-1745690400@vivibollate.it
SUMMARY:Presentazione del libro “COLORE POLITICO: ANTIFASCISTA”
DESCRIPTION:26 aprile\, ore 18.00 – Teatro LaBolla\, Piazza della Resistenza 32 Bollate \nAlle ore 18.00 di mercoledì 26 aprile\, nel foyer del Teatro LaBolla\, si terrà la presentazione del libro sugli antifascisti bollatesi schedati al casellario politico centrale di Roma dalla metà degli anni 20. Il volume è frutto di una ricerca storica realizzata a cura dell’Assessorato alla Cultura e Pace e di ANPI Bollate-Baranzate. \nIntervengono il professore Massimo De Giuseppe e l’Assessora Lucia Albrizio. \n  \nIngresso libero \n 
URL:https://vivibollate.it/evento/presentazione-del-libro-colore-politico-antifascista/
LOCATION:Teatro LaBolla\, Piazza Della Resistenza\, Bollate\, 20021\, Italia
CATEGORIES:Adulti,presentazione libro,teatro
ATTACH;FMTTYPE=image/jpeg:https://vivibollate.it/wp-content/uploads/2025/04/WhatsApp-Image-2025-04-09-at-12.38.10.jpeg
END:VEVENT
BEGIN:VEVENT
DTSTART;TZID=Europe/Rome:20250428T210000
DTEND;TZID=Europe/Rome:20250428T210000
DTSTAMP:20260419T161545
CREATED:20250414T064328Z
LAST-MODIFIED:20250414T064328Z
UID:3248-1745874000-1745874000@vivibollate.it
SUMMARY:Presentazione del libro “MALATI DI LIBERTA’”
DESCRIPTION:28 Aprile\, ore 21.00 – Sala Conferenze Biblioteca di Bollate (Piazza C.A. dalla Chiesa) \n  \n  \nPRESENTAZIONE LIBRO ANPI “MALATI DI LIBERTA’” \nLunedì 28 aprile alle ore 21\,00 nella Sala Conferenze della Biblioteca di Bollate verrà presentato il libro “Malati di libertà. Storia delle evasioni dei prigionieri antifascisti dall’ospedale milanese di Niguarda (1943-1945)” di Daniele Pascucci\, Riccardo Degregorio\, Alessandro Schiavoni\, Carlo Celentano\, edito da Mimesis Edizioni. Il libro ricostruisce la storia della rete resistenziale creatasi attorno all’ospedale e al quartiere di Niguarda con testimonianze dirette e documenti\, ripercorrendo un’avvincente storia di ribellione e di solidarietà della Resistenza italiana. Modera l’incontro con gli autori il giornalista Roberto Iasoni. \n  \nIngresso libero \n 
URL:https://vivibollate.it/evento/presentazione-del-libro-malati-di-liberta/
LOCATION:Biblioteca Bollate centro\, Piazza C.A. Dalla Chiesa\, 30\, Bollate\, MI\, 20021
CATEGORIES:Adulti,Biblioteca,presentazione libro
ATTACH;FMTTYPE=image/png:https://vivibollate.it/wp-content/uploads/2025/03/malati-di-liberta.png
END:VEVENT
BEGIN:VEVENT
DTSTART;TZID=Europe/Rome:20250606T210000
DTEND;TZID=Europe/Rome:20250606T210000
DTSTAMP:20260419T161545
CREATED:20250603T062053Z
LAST-MODIFIED:20250603T062053Z
UID:3509-1749243600-1749243600@vivibollate.it
SUMMARY:A PARTE QUESTO TUTTO BENE
DESCRIPTION:Venerdì 6 giugno\, ore 21.00 \nRosangela Percoco presenta il suo ultimo romanzo: A parte questo\, tutto bene\nEditrice Salani\, 2023 \nA volte basta poco – un’immagine\, una parola detta da qualcuno\, un episodio minimo – per innescare un profondo bilancio della propria vita. Per Lucia\, quel poco è una domanda del suo medico. “Come sta?” le chiede mentre le prescrive una nuova combinazione di farmaci. Settantaquattro anni\, un certo numero di patologie da tenere costantemente a bada e che le impediscono di uscire da casa\, Lucia ha una tempra forte eppure viene travolta da quella innocua domanda. Come sta\, a parte la condizione fisica? Cosa potrebbe dire davvero di sé? \nCon sagacia\, compassione e realismo la scrittrice ci accompagna in questo viaggio: la serata sarà accompagnata da una lettura animata. \n  \n  \nIngresso libero 
URL:https://vivibollate.it/evento/a-parte-questo-tutto-bene/
LOCATION:Biblioteca Bollate centro\, Piazza C.A. Dalla Chiesa\, 30\, Bollate\, MI\, 20021
CATEGORIES:Adulti,Biblioteca,letteratura,presentazione libro
ATTACH;FMTTYPE=image/png:https://vivibollate.it/wp-content/uploads/2025/05/2025_06_06_percoco_post-IG.png
ORGANIZER;CN="Assessorato alla Cultura e Pace":MAILTO:cultura@comune.bollate.mi.it
END:VEVENT
BEGIN:VEVENT
DTSTART;VALUE=DATE:20251125
DTEND;VALUE=DATE:20251126
DTSTAMP:20260419T161545
CREATED:20251125T094238Z
LAST-MODIFIED:20251125T094238Z
UID:3577-1764028800-1764115199@vivibollate.it
SUMMARY:SEMI DI CONOSCENZA: PAOLO FERRI
DESCRIPTION:“Ai confini dell’universo. Dalle sfere celesti all’esplorazione spaziale” \n  \nLa nostra idea di universo è rimasta quasi immutata per millenni: da un lato il mondo terrestre\, che possiamo toccare con mano e che è soggetto a continue mutazioni\, e dall’altro il mondo celeste\, lontano e perfetto; un mondo fatto di sfere trasparenti che sostengono le stelle e i pianeti. \nPaolo Ferri\, astrofisico bollatese\, presenta il suo ultimo libro “Ai confini dell’universo. Dalle sfere celesti all’esplorazione spaziale”: un viaggio dalla Terra ai pianeti del sistema solare\, per poi arrivare alle stelle\, alle galassie lontane\, fino ai confini estremi del cosmo. \nUna visione che è stata messa in crisi quattro secoli fa\, quando Galileo con le sue osservazioni al telescopio comprese che il Sole e i pianeti erano corpi simili al nostro pianeta. Era nata l’astronomia moderna\, e da quel momento abbiamo spinto sempre più in là i confini dell’universo conosciuto. Questo libro ripercorre le tappe principali di questo viaggio. Dalle visioni dell’antichità alla rivoluzione copernicana e alla nascita del concetto di sistema solare\, per poi seguire i progressi dell’astronomia\, con la scoperta di nuovi pianeti lontani\, e per arrivare infine all’era spaziale\, che ci ha aperto le porte dell’esplorazione interplanetaria e permesso di osservare l’universo sempre più in profondità. \nIl cielo stellato sopra di noi è tra gli spettacoli che destano più ammirazione. Tanto che da sempre siamo stati spinti a porci domande su quegli spazi lontanissimi. E secolo dopo secolo abbiamo esteso il nostro sguardo e cambiato la nostra idea di universo: dalla Terra ai pianeti del sistema solare\, per poi arrivare alle stelle\, alle galassie lontane\, fino ai confini estremi del cosmo. \n \n\nIn occasione della Giornata Mondiale contro la violenza sulle donne la serata sarà dedicata al progetto Seconda Stella – Mai più sola\, che sostiene le donne seguite dal Centro Antiviolenza Hara di Bollate e Rho.\nVendita libri a cura della Libreria CuorContento – Firma copie a fine serata
URL:https://vivibollate.it/evento/semi-di-conoscenza-paolo-ferri/
LOCATION:Teatro LaBolla\, Piazza Della Resistenza\, Bollate\, 20021\, Italia
CATEGORIES:Adulti,Bambini,CONFERENZE,presentazione libro,ragazzi,teatro
ATTACH;FMTTYPE=image/png:https://vivibollate.it/wp-content/uploads/2025/11/locandina.png
ORGANIZER;CN="Assessorato alla Cultura e Pace":MAILTO:cultura@comune.bollate.mi.it
END:VEVENT
BEGIN:VEVENT
DTSTART;TZID=Europe/Rome:20260115T210000
DTEND;TZID=Europe/Rome:20260115T230000
DTSTAMP:20260419T161545
CREATED:20251125T095244Z
LAST-MODIFIED:20251128T112928Z
UID:3583-1768510800-1768518000@vivibollate.it
SUMMARY:SEMI DI CONOSCENZA: VITO MANCUSO
DESCRIPTION:Filosofo e teologo\, Vito Mancuso ci introdurrà a tematiche spirituali\, filosofiche\, etiche e di fede con un approccio laico. \nUna chiacchierata intorno al suo ultimo libro “Destinazione speranza”\, per condurre il pubblico ad interrogarsi sul senso e le sfide della vita e a riflettere sul tempo presente. \nVito Mancuso ha insegnato presso l’Università Vita-Salute San Raffaele di Milano\, l’Università degli Studi di Padova\, e attualmente è docente del master in Meditazione e Neuroscienze dell’Università degli Studi di Udine. Ha fondato e dirige presso il MAst di Bologna il «Laboratorio di Etica». È autore di numerosi saggi che hanno suscitato notevole attenzione da parte del pubblico su diversi argomenti tra cui la filosofia di Kant e di Hegel\, le malattie e il dolore\, la fede\, la natura di Dio\, l’anima e la vita eterna\, l’autenticità\, l’amore\, la libertà\, la bellezza\, il coraggio\, la paura. Il suo pensiero è oggetto di una monografia uscita in Germania (Essentials of Catholic Radicalism. An Introduction to the Lay Theology of Vito Mancuso) e può essere complessivamente definito come «filosofia della relazione». È editorialista del quotidiano «La Stampa».
URL:https://vivibollate.it/evento/semi-di-conoscenza-vito-mancuso/
LOCATION:Teatro LaBolla\, Piazza Della Resistenza\, Bollate\, 20021\, Italia
CATEGORIES:Adulti,filosofia,giovani adulti,presentazione libro,spettacolo
ATTACH;FMTTYPE=image/png:https://vivibollate.it/wp-content/uploads/2025/11/banner-Mancuso.png
ORGANIZER;CN="Assessorato alla Cultura e Pace":MAILTO:cultura@comune.bollate.mi.it
END:VEVENT
BEGIN:VEVENT
DTSTART;TZID=Europe/Rome:20260130T210000
DTEND;TZID=Europe/Rome:20260130T210000
DTSTAMP:20260419T161545
CREATED:20251125T100539Z
LAST-MODIFIED:20251128T113022Z
UID:3588-1769806800-1769806800@vivibollate.it
SUMMARY:SEMI DI CONOSCENZA: ENRICO GALIANO
DESCRIPTION:“Meglio veri che perfetti. Crescere secondo la propria vocazione”\nIn questo intervento intenso ed emozionante\, Enrico Galiano affronta uno dei nodi più delicati del rapporto tra adulti e ragazzi: il peso delle aspettative. \nAttraverso le storie che hanno ispirato il suo romanzo “Quel posto che chiami casa”\, Galiano racconta cosa succede quando figli e studenti si trovano costretti a inseguire modelli di perfezione imposti dall’esterno\, perdendo di vista chi sono davvero. \nA partire da una domanda fondamentale – “Li stiamo aiutando a essere ciò che vogliono o ciò che vogliamo noi?” – Galiano riflette sul rischio di trasformare l’amore in pressione e l’educazione in una corsa a ostacoli verso un ideale irraggiungibile. Con il suo stile coinvolgente e ironico\, l’autore invita genitori e insegnanti a farsi alleati delle vocazioni dei ragazzi\, non giudici. \nA sostituire la paura di sbagliare con la libertà di provare. Perché la perfezione può essere una trappola\, e a volte anche una malattia: da cui si può guarire cominciando a guardare verso di loro con occhi diversi. \nUno speech che tocca corde profonde\, alternando momenti di leggerezza e commozione\, e che lascia al pubblico una certezza: la cosa più rivoluzionaria che possiamo fare per i nostri figli e studenti è permettere loro di essere sé stessi.
URL:https://vivibollate.it/evento/semi-di-conoscenza-enrico-galiano/
LOCATION:Teatro LaBolla\, Piazza Della Resistenza\, Bollate\, 20021\, Italia
CATEGORIES:Adulti,giovani adulti,letteratura,pedagogia,presentazione libro,ragazzi,spettacolo
ATTACH;FMTTYPE=image/png:https://vivibollate.it/wp-content/uploads/2025/11/Banner-Galiano.png
ORGANIZER;CN="Assessorato alla Cultura e Pace":MAILTO:cultura@comune.bollate.mi.it
END:VEVENT
END:VCALENDAR