BEGIN:VCALENDAR
VERSION:2.0
PRODID:-//ViviBollate - ECPv6.15.13//NONSGML v1.0//EN
CALSCALE:GREGORIAN
METHOD:PUBLISH
X-WR-CALNAME:ViviBollate
X-ORIGINAL-URL:https://vivibollate.it
X-WR-CALDESC:Eventi per ViviBollate
REFRESH-INTERVAL;VALUE=DURATION:PT1H
X-Robots-Tag:noindex
X-PUBLISHED-TTL:PT1H
BEGIN:VTIMEZONE
TZID:Europe/Rome
BEGIN:DAYLIGHT
TZOFFSETFROM:+0100
TZOFFSETTO:+0200
TZNAME:CEST
DTSTART:20240331T010000
END:DAYLIGHT
BEGIN:STANDARD
TZOFFSETFROM:+0200
TZOFFSETTO:+0100
TZNAME:CET
DTSTART:20241027T010000
END:STANDARD
BEGIN:DAYLIGHT
TZOFFSETFROM:+0100
TZOFFSETTO:+0200
TZNAME:CEST
DTSTART:20250330T010000
END:DAYLIGHT
BEGIN:STANDARD
TZOFFSETFROM:+0200
TZOFFSETTO:+0100
TZNAME:CET
DTSTART:20251026T010000
END:STANDARD
BEGIN:DAYLIGHT
TZOFFSETFROM:+0100
TZOFFSETTO:+0200
TZNAME:CEST
DTSTART:20260329T010000
END:DAYLIGHT
BEGIN:STANDARD
TZOFFSETFROM:+0200
TZOFFSETTO:+0100
TZNAME:CET
DTSTART:20261025T010000
END:STANDARD
END:VTIMEZONE
BEGIN:VEVENT
DTSTART;TZID=Europe/Rome:20250215T160000
DTEND;TZID=Europe/Rome:20250215T160000
DTSTAMP:20260419T182253
CREATED:20250203T134949Z
LAST-MODIFIED:20250204T134711Z
UID:3043-1739635200-1739635200@vivibollate.it
SUMMARY:IN INFERNA - Presentazione libro
DESCRIPTION:Abdoulaye Ba presenta In Inferna\, nella Sala Conferenze della Biblioteca di Bollate centro\, il 5 febbraio alle ore 16.00. \n  \nUn viaggio dal Senegal al Nord Italia. Uno sguardo sulla colonizzazione dell’Africa. \nIntroduce il curatore Dario Villa \n  \n“Questo libro\, composto da fatti successi più di cento anni fa\, da cose che succedono oggigiorno e dalla mia esperienza di vita sin da bambino\, mi ha portato a cercare e a raccontare. La vita ci ricongiunge con il nostro passato anche senza che ce ne rendiamo conto. Ho iniziato a scrivere cercando di liberarmi delle mie esperienze pesanti: più riuscivo a tirare le parole fuori di me\, più mi sentivo leggero\, in qualche modo. Ho scritto anche per rendere omaggio a tutte quelle persone decedute lungo lo stesso percorso che ho fatto anch’io: il deserto\, la Libia\, il Mediterraneo. Mi sento triste dentro quando penso a me\, ma in fondo non sono diverso da ogni altra persona\, perché la mia stessa tristezza si vede negli occhi del\nmondo in cui viviamo. La vita di molte persone è scomparsa così\, nel nulla\, lontano da tutti e da tutto.” \nABDOULAYE BA nasce nel 1993 a Djiguinoum\, Senegal. Studia Geografia all’Università Cheikh Anta Diop di Dakar\, da cui è costretto a fuggire a seguito di scontri tra polizia e studenti. Arriva in Italia nel 2016\, ospite di un centro di accoglienza dell’Alto Varesotto\, che lascia due anni dopo. Nel 2017 conosce il teatro grazie a un laboratorio della compagnia Teatro Periferico di Cassano Valcuvia (VA)\, che sfocia nella realizzazione dello spettacolo «Con me in Paradiso»\, con cui partecipa a diversi festival in Nord e Centro Italia. Contemporaneamente\, lavora presso una RSA della sua zona. \n  \nIngresso libero
URL:https://vivibollate.it/evento/in-inferna-presentazione-libro/
LOCATION:Biblioteca Bollate centro\, Piazza C.A. Dalla Chiesa\, 30\, Bollate\, MI\, 20021
CATEGORIES:Adulti,Biblioteca,letteratura,presentazione libro
ATTACH;FMTTYPE=image/jpeg:https://vivibollate.it/wp-content/uploads/2025/02/In-Inferna_volantino_page-0001.jpg
ORGANIZER;CN="Assessorato alla Cultura e Pace":MAILTO:cultura@comune.bollate.mi.it
END:VEVENT
BEGIN:VEVENT
DTSTART;TZID=Europe/Rome:20250222T160000
DTEND;TZID=Europe/Rome:20250222T173000
DTSTAMP:20260419T182253
CREATED:20250203T142024Z
LAST-MODIFIED:20250204T134656Z
UID:3048-1740240000-1740245400@vivibollate.it
SUMMARY:COMPRENDERE E PARAFRASARE - Presentazione progetto
DESCRIPTION:Il giorno 22 febbraio\, dalle 16 alle 17.30\, in Sala Conferenze Biblioteca Bollate si terrà la presentazione del progetto “Comprendere e parafrasare“\, a cura di Alessandro Guardigli. \n  \n“Fare la parafrasi” è un esercizio poco amato dagli studenti\, che spesso non ne capiscono il senso. \n  \nEppure ci sono delle ragioni per cui è praticato ancora oggi. La prima è che qualunque discorso su un testo richiede di avere capito cosa vuole dire. Questo non è così semplice come può sembrare\, a causa della distanza sempre più ampia che separa i lettori di oggi dalla lingua letteraria. L’immenso patrimonio della nostra letteratura rischia di non essere più apprezzato nella sua veste autentica. Fare la parafrasi significa essere in grado di comprendere e al tempo stesso di rendere in italiano attuale questo patrimonio\, e dunque permettere che resti vivo. \n  \n  \nIngresso gratuito \n 
URL:https://vivibollate.it/evento/comprendere-e-parafrasare-presentazione-progetto/
LOCATION:Biblioteca Bollate centro\, Piazza C.A. Dalla Chiesa\, 30\, Bollate\, MI\, 20021
CATEGORIES:Adulti,Biblioteca,CONFERENZE,letteratura,presentazione libro,ragazzi
ATTACH;FMTTYPE=image/jpeg:https://vivibollate.it/wp-content/uploads/2025/02/comprendere-e-parafrasare-4306.jpg
ORGANIZER;CN="Assessorato alla Cultura e Pace":MAILTO:cultura@comune.bollate.mi.it
END:VEVENT
END:VCALENDAR