BEGIN:VCALENDAR
VERSION:2.0
PRODID:-//ViviBollate - ECPv6.15.13//NONSGML v1.0//EN
CALSCALE:GREGORIAN
METHOD:PUBLISH
X-WR-CALNAME:ViviBollate
X-ORIGINAL-URL:https://vivibollate.it
X-WR-CALDESC:Eventi per ViviBollate
REFRESH-INTERVAL;VALUE=DURATION:PT1H
X-Robots-Tag:noindex
X-PUBLISHED-TTL:PT1H
BEGIN:VTIMEZONE
TZID:Europe/Rome
BEGIN:DAYLIGHT
TZOFFSETFROM:+0100
TZOFFSETTO:+0200
TZNAME:CEST
DTSTART:20230326T010000
END:DAYLIGHT
BEGIN:STANDARD
TZOFFSETFROM:+0200
TZOFFSETTO:+0100
TZNAME:CET
DTSTART:20231029T010000
END:STANDARD
BEGIN:DAYLIGHT
TZOFFSETFROM:+0100
TZOFFSETTO:+0200
TZNAME:CEST
DTSTART:20240331T010000
END:DAYLIGHT
BEGIN:STANDARD
TZOFFSETFROM:+0200
TZOFFSETTO:+0100
TZNAME:CET
DTSTART:20241027T010000
END:STANDARD
BEGIN:DAYLIGHT
TZOFFSETFROM:+0100
TZOFFSETTO:+0200
TZNAME:CEST
DTSTART:20250330T010000
END:DAYLIGHT
BEGIN:STANDARD
TZOFFSETFROM:+0200
TZOFFSETTO:+0100
TZNAME:CET
DTSTART:20251026T010000
END:STANDARD
END:VTIMEZONE
BEGIN:VEVENT
DTSTART;TZID=Europe/Rome:20241212T210000
DTEND;TZID=Europe/Rome:20241212T230000
DTSTAMP:20260419T214014
CREATED:20241126T115038Z
LAST-MODIFIED:20241127T092308Z
UID:2970-1734037200-1734044400@vivibollate.it
SUMMARY:MARCO BALZANO presenta "BAMBINO"
DESCRIPTION:Giovedì 12 dicembre alle 21\nSala Conferenze della biblioteca\, Ingresso gratuito \n  \nSiamo a Trieste\, la guerra è appena finita. Un uomo beve un caffè al bancone del bar. Qualcuno lo chiama\, lui si gira ma sente già la canna di una pistola puntata contro la schiena. \nTutti lo conoscono come «Bambino»: è stato la camicia nera più spietata della città. «Ho ucciso e fatto uccidere. Ho sempre cercato di stare dalla parte del più forte e mi sono sempre ritrovato dalla parte sbagliata». \nUna storia veloce quanto un proiettile che attraversa guerre\, confini\, tradimenti. Come in Resto qui\, Marco Balzano torna al grande romanzo storico e civile. E lo fa con il suo personaggio più duro\, impossibile da dimenticare. \nMattia nasce a Trieste nel 1900. La sua infanzia irrequieta\, forse\, è già un presagio: un fratello che parte per l’America\, un amico che presto lo abbandona. Quando scopre che la donna che lo ha cresciuto non è la sua vera madre\, dentro di lui qualcosa si spezza e nel petto divampa un fuoco freddo che non saprà mai domare. L’ingresso tra le file degli squadristi è una conseguenza quasi naturale. Nonostante il soprannome che gli hanno affibbiato per il suo viso da fanciullo\, «Bambino»\, Mattia ostenta una ferocia da boia. Ma prima ancora dell’ideologia\, prima della violenza e della brutalità antislava\, il motivo per cui indossa la camicia nera e batte palmo a palmo le terre contese è la speranza di ritrovare quella madre senza nome né volto. La ricerca di una donna che non ha mai conosciuto diventa il senso di tutto. Suo padre\, un vecchio orologiaio sicuro che le persone si possano riparare come gli ingranaggi\, è l’unico a conoscere la verità ma la tiene sigillata in un silenzio blindato quanto una cassaforte. Nella frontiera d’Italia più dilaniata\, la vita di Bambino scivola su un piano inclinato: ogni giorno una nuova spedizione\, un nuovo assalto\, una nuova rapina. E poi\, tutto d’un fiato\, lo scoppio della guerra\, i nazisti in città\, l’occupazione jugoslava di Trieste\, le foibe. Un’esistenza vissuta da cane sciolto\, scandita da un implacabile conto alla rovescia. Un romanzo palpitante in cui il giudizio – anche di fronte alle azioni più estreme – è sempre fuori scena. \nCon una scrittura trascinante e tagliente\, Marco Balzano torna a indagare il rapporto tra individuo e collettività\, tra le scelte personali e i grandi rivolgimenti della Storia. «La vita è aggredire o difendere\, distruggere o prendersi cura». \n  \nDialoga con l’autore Andrea Labanca\nAl termine sarà presente anche il banchetto della Libreria CuorContento per la vendita del libro ed il firmacopie.  \n 
URL:https://vivibollate.it/evento/marco-balzano-presenta-bambino/
LOCATION:Biblioteca Bollate centro\, Piazza C.A. Dalla Chiesa\, 30\, Bollate\, MI\, 20021
CATEGORIES:presentazione libro
ATTACH;FMTTYPE=image/png:https://vivibollate.it/wp-content/uploads/2024/11/Balzano-Bambino-29.7-x-42-cm-1.png
ORGANIZER;CN="Assessorato alla Cultura e Pace":MAILTO:cultura@comune.bollate.mi.it
END:VEVENT
END:VCALENDAR