BEGIN:VCALENDAR
VERSION:2.0
PRODID:-//ViviBollate - ECPv6.15.13//NONSGML v1.0//EN
CALSCALE:GREGORIAN
METHOD:PUBLISH
X-ORIGINAL-URL:https://vivibollate.it
X-WR-CALDESC:Eventi per ViviBollate
REFRESH-INTERVAL;VALUE=DURATION:PT1H
X-Robots-Tag:noindex
X-PUBLISHED-TTL:PT1H
BEGIN:VTIMEZONE
TZID:Europe/Rome
BEGIN:DAYLIGHT
TZOFFSETFROM:+0100
TZOFFSETTO:+0200
TZNAME:CEST
DTSTART:20230326T010000
END:DAYLIGHT
BEGIN:STANDARD
TZOFFSETFROM:+0200
TZOFFSETTO:+0100
TZNAME:CET
DTSTART:20231029T010000
END:STANDARD
BEGIN:DAYLIGHT
TZOFFSETFROM:+0100
TZOFFSETTO:+0200
TZNAME:CEST
DTSTART:20240331T010000
END:DAYLIGHT
BEGIN:STANDARD
TZOFFSETFROM:+0200
TZOFFSETTO:+0100
TZNAME:CET
DTSTART:20241027T010000
END:STANDARD
BEGIN:DAYLIGHT
TZOFFSETFROM:+0100
TZOFFSETTO:+0200
TZNAME:CEST
DTSTART:20250330T010000
END:DAYLIGHT
BEGIN:STANDARD
TZOFFSETFROM:+0200
TZOFFSETTO:+0100
TZNAME:CET
DTSTART:20251026T010000
END:STANDARD
END:VTIMEZONE
BEGIN:VEVENT
DTSTART;VALUE=DATE:20241114
DTEND;VALUE=DATE:20241115
DTSTAMP:20260419T235119
CREATED:20241024T120327Z
LAST-MODIFIED:20241025T082137Z
UID:2937-1731542400-1731628799@vivibollate.it
SUMMARY:MATTEO LANCINI presenta il suo ultimo libro "SII TE STESSO A MODO MIO"
DESCRIPTION:Mentre i ragazzi si adattano alle esigenze degli adulti pur di farli sentire tali\, questi ultimi sono alle prese con una crescente fragilità. \nQuesti ed altri i temi che tratta l’ultimo lavoro di Matteo Lancini\, psicologo e psicoterapeuta\, presidente della Fondazione “Minotauro”\, dove dirige l’équipe Dipendenze tecnologiche e la sezione adolescenti del centro di consultazione e psicoterapia\, docente presso l’Università Milano-Bicocca e l’Università Cattolica di Milano.\nCollabora con diverse redazioni giornalistiche e scrive per La Stampa. I suoi ultimi libri: L’adolescente. Psicopatologia e psicoterapia evolutiva (con L. Cirillo\, T. Scodeggio\, T. Zanella\, Cortina\, 2020). L’età tradita. Oltre i luoghi comuni sugli adolescenti (Cortina\, 2021). Figli di internet. Come aiutarli a crescere tra narcisismo\, sexting\, cyberbullismo e ritiro sociale (con L. Cirillo\, Erickson\, 2022). Sii te stesso a modo mio. Essere adolescenti nell’epoca della fragilità adulta (Cortina\, 2023). \n“Per mettersi in una posizione di ascolto bisogna essere saldi\, soprattutto se ‘l’altro’ è un figlio che soffre”. \nEVENTO GRATUITO\nPRENOTAZIONE OBBLIGATORIA:\nscrivendo a: info@labollateatro.it\n(indicare nome\, cognome\, numero di partecipanti\, recapito telefonico) \nEvento organizzato da:\nComune di Bollate – Assessorati Cultura e Pace e Politiche Educative\nAz. Spec. Consortile Comuni Insieme per lo Sviluppo Sociale \nSarà presente la libreria CuorContento di Bollate per la vendita del libro.\nFIRMACOPIE A FINE SERATA
URL:https://vivibollate.it/evento/matteo-lancini-presenta-il-suo-ultimo-libro-sii-te-stesso-a-modo-mio/
CATEGORIES:presentazione libro,teatro
ATTACH;FMTTYPE=image/png:https://vivibollate.it/wp-content/uploads/2024/10/post-Lancini.png
ORGANIZER;CN="Assessorato alla Cultura e Pace":MAILTO:cultura@comune.bollate.mi.it
END:VEVENT
END:VCALENDAR