BEGIN:VCALENDAR
VERSION:2.0
PRODID:-//ViviBollate - ECPv6.15.13//NONSGML v1.0//EN
CALSCALE:GREGORIAN
METHOD:PUBLISH
X-ORIGINAL-URL:https://vivibollate.it
X-WR-CALDESC:Eventi per ViviBollate
REFRESH-INTERVAL;VALUE=DURATION:PT1H
X-Robots-Tag:noindex
X-PUBLISHED-TTL:PT1H
BEGIN:VTIMEZONE
TZID:Europe/Rome
BEGIN:DAYLIGHT
TZOFFSETFROM:+0100
TZOFFSETTO:+0200
TZNAME:CEST
DTSTART:20230326T010000
END:DAYLIGHT
BEGIN:STANDARD
TZOFFSETFROM:+0200
TZOFFSETTO:+0100
TZNAME:CET
DTSTART:20231029T010000
END:STANDARD
BEGIN:DAYLIGHT
TZOFFSETFROM:+0100
TZOFFSETTO:+0200
TZNAME:CEST
DTSTART:20240331T010000
END:DAYLIGHT
BEGIN:STANDARD
TZOFFSETFROM:+0200
TZOFFSETTO:+0100
TZNAME:CET
DTSTART:20241027T010000
END:STANDARD
BEGIN:DAYLIGHT
TZOFFSETFROM:+0100
TZOFFSETTO:+0200
TZNAME:CEST
DTSTART:20250330T010000
END:DAYLIGHT
BEGIN:STANDARD
TZOFFSETFROM:+0200
TZOFFSETTO:+0100
TZNAME:CET
DTSTART:20251026T010000
END:STANDARD
END:VTIMEZONE
BEGIN:VEVENT
DTSTART;TZID=Europe/Rome:20241009T210000
DTEND;TZID=Europe/Rome:20241013T210000
DTSTAMP:20260420T014743
CREATED:20241001T095824Z
LAST-MODIFIED:20241001T095929Z
UID:2913-1728507600-1728853200@vivibollate.it
SUMMARY:BIBOLL in Festa!
DESCRIPTION:Torna anche quest’anno il consueto appuntamento con la Festa della Biblioteca! \nStorie narrate\, cantate e vissute \n“Ancora una volta celebriamo l’importanza e la bellezza della nostra Biblioteca \, luogo del libro\, delle parole\, delle storie ma soprattutto un luogo del cuore per la nostra città – dice l’Assessora alla Cultura e Pace Lucia Albrizio – E’ il luogo delle persone e per questo si prepara ad essere ancora più grande e accogliente. Tanti appuntamenti culturali\, musicali e di svago gratuiti e aperti a tutte le fasce d’età . Vorrei che la celebrazione di queste giornate della Biblioteca permettesse a più persone di venire a contatto con la meraviglia che questo luogo esprime e con il calore\, la competenza e la passione di coloro che ci lavorano o prestano attività di volontariato.\nLucia Albrizio \nTanti eventi si terranno dal 9 al 13 ottobre\, con iniziative per tutte le età: \nspettacoli in Teatro LaBolla e in biblioteca\, laboratori per bambini nella biblioteca di Bollate centro e Cassina Nuova\, visita in archivio comunale e alla Biblioteca Sormani di Milano\, mostra mercato del libro usato\, il Reading Party\, nuova proposta per i più giovani\, e molto altro… un’edizione imperdibile! \n  \nEcco il PROGRAMMA COMPLETO: \n \n \n \n \nQuesti i programmi PER I RAGAZZI: \n \nInoltre: \nDomenica 13\, dalle 15 alle 18 – piazza della Biblioteca (A cura dell’Associazione Il Tarlo)\nLudoteca itinerante e rompicapi. Giochi di legno per tutte le età\nGiochi per aguzzare l’ingegno e per mantenere giovani la mente e il cuore. \nSarà presente inoltre il Banchetto dei libri in inglese a cura di Valentina Vally Book shop\, in Partnership with Usborne \n  \n  \n  \nPer informazioni e prenotazioni:\nUfficio Cultura: 0235005575 – cultura@comune.bollate.mi.it\nBiblioteca:0235005508 – biblioteca.bollate@csbno.net \n  \nSTAY TUNED sulla pagina social della Biblioteca per essere aggiornati sugli eventi!\nFACEBOOK: Biblioteca-Bollate \nINSTAGRAM: biblioteca_bollate
URL:https://vivibollate.it/evento/biboll-in-festa/
LOCATION:Piazza Generale Carlo Alberto dalla Chiesa\, Piazza Generale Carlo Alberto dalla Chiesa\, Bollate\, Milano\, 20021\, Italia
CATEGORIES:Adulti,Bambini,Biblioteca,festa del teatro,gruppo di lettura,laboratorio creativo,musica,presentazione libro,spettacolo,teatro
ATTACH;FMTTYPE=image/png:https://vivibollate.it/wp-content/uploads/2024/10/post-Biblio-instagram.png
ORGANIZER;CN="Assessorato alla Cultura e Pace":MAILTO:cultura@comune.bollate.mi.it
END:VEVENT
END:VCALENDAR