BEGIN:VCALENDAR
VERSION:2.0
PRODID:-//ViviBollate - ECPv6.15.13//NONSGML v1.0//EN
CALSCALE:GREGORIAN
METHOD:PUBLISH
X-WR-CALNAME:ViviBollate
X-ORIGINAL-URL:https://vivibollate.it
X-WR-CALDESC:Eventi per ViviBollate
REFRESH-INTERVAL;VALUE=DURATION:PT1H
X-Robots-Tag:noindex
X-PUBLISHED-TTL:PT1H
BEGIN:VTIMEZONE
TZID:UTC
BEGIN:STANDARD
TZOFFSETFROM:+0000
TZOFFSETTO:+0000
TZNAME:UTC
DTSTART:20220101T000000
END:STANDARD
END:VTIMEZONE
BEGIN:VEVENT
DTSTART;TZID=UTC:20230116T093000
DTEND;TZID=UTC:20230121T190000
DTSTAMP:20260424T063549
CREATED:20230119T082847Z
LAST-MODIFIED:20230119T082847Z
UID:2173-1673861400-1674327600@vivibollate.it
SUMMARY:MOSTRA D'ARTE "CANTUN SCIATIN"
DESCRIPTION:Dal 16 gennaio al 21 gennaio presso la Biblioteca Comunale di Bollate non perdetevi la mostra dei vincitori della 42^ concorso d’arte “Cantun Sciatin”. \nUna mostra collettiva che vedrà protagonisti i vincitori Fabrizio Gessati e Marina Riva. \n  \n 
URL:https://vivibollate.it/evento/mostra-darte-cantun-sciatin/
LOCATION:Biblioteca Bollate centro\, Piazza C.A. Dalla Chiesa\, 30\, Bollate\, MI\, 20021
CATEGORIES:Biblioteca,pittura
ATTACH;FMTTYPE=image/jpeg:https://vivibollate.it/wp-content/uploads/2023/01/locandina-mostra-GAB.jpg
ORGANIZER;CN="Assessorato alla Cultura e Pace":MAILTO:cultura@comune.bollate.mi.it
END:VEVENT
END:VCALENDAR