BEGIN:VCALENDAR
VERSION:2.0
PRODID:-//ViviBollate - ECPv6.15.13//NONSGML v1.0//EN
CALSCALE:GREGORIAN
METHOD:PUBLISH
X-ORIGINAL-URL:https://vivibollate.it
X-WR-CALDESC:Eventi per ViviBollate
REFRESH-INTERVAL;VALUE=DURATION:PT1H
X-Robots-Tag:noindex
X-PUBLISHED-TTL:PT1H
BEGIN:VTIMEZONE
TZID:Europe/Rome
BEGIN:DAYLIGHT
TZOFFSETFROM:+0100
TZOFFSETTO:+0200
TZNAME:CEST
DTSTART:20190331T010000
END:DAYLIGHT
BEGIN:STANDARD
TZOFFSETFROM:+0200
TZOFFSETTO:+0100
TZNAME:CET
DTSTART:20191027T010000
END:STANDARD
BEGIN:DAYLIGHT
TZOFFSETFROM:+0100
TZOFFSETTO:+0200
TZNAME:CEST
DTSTART:20200329T010000
END:DAYLIGHT
BEGIN:STANDARD
TZOFFSETFROM:+0200
TZOFFSETTO:+0100
TZNAME:CET
DTSTART:20201025T010000
END:STANDARD
BEGIN:DAYLIGHT
TZOFFSETFROM:+0100
TZOFFSETTO:+0200
TZNAME:CEST
DTSTART:20210328T010000
END:DAYLIGHT
BEGIN:STANDARD
TZOFFSETFROM:+0200
TZOFFSETTO:+0100
TZNAME:CET
DTSTART:20211031T010000
END:STANDARD
END:VTIMEZONE
BEGIN:VEVENT
DTSTART;TZID=Europe/Rome:20201121T090000
DTEND;TZID=Europe/Rome:20201203T120000
DTSTAMP:20260426T020711
CREATED:20201119T090905Z
LAST-MODIFIED:20201119T090905Z
UID:1087-1605949200-1606996800@vivibollate.it
SUMMARY:La Biblioteca a casa tua!
DESCRIPTION:La Biblioteca a casa tua! \nPer dare una risposta ad una reale esigenza del territorio e offrire una possibilità concreta ai cittadini bollatesi che amano leggere\, l’Assessorato alla Cultura e Pace sperimenta un nuovo servizio di consegna dei libri\, dvd e cd a domicilio a cura dei bibliotecari. \nLa precedenza sarà data alle fasce più fragili della popolazione che sono impossibilitate ad uscire di casa\, ma il servizio è fruibile da parte di tutti i residenti di Bollate. \nTelefonando allo 0235005508\, da lunedì a sabato dalle 9 alle 13\, via mail all’indirizzo biblioteca.bollate@csbno.net o su FB Biblioteca di Bollate  \nsi potranno prenotare i libri\, dvd e cd\, e concordare la consegna che avverrà in due modalità: \n\n\nnelle mattine di mercoledì e sabato dalle 9 alle 13 presso il proprio domicilio a cura dei bibliotecari. \n\n\nIn alternativa\, concordandolo con la Biblioteca\, il ritiro potrà essere effettuato presso la Libreria Libro… libera tutti – Via Turati 11\, 20021 Bollate nei seguenti orari: da martedì a venerdì: 9.30-12.30 / 16.00-19.00 Sabato: 9.30-12.30 \n\n\nQuesto servizio avverrà nel totale rispetto delle norme di sicurezza vigenti. \nNon sarà invece effettuato il servizio di reso ed i libri consegnati saranno restituiti alla biblioteca da parte degli utenti stessi\, al termine dell’emergenza sanitaria. \nSarà inoltre attivato in collaborazione con gli istituti scolastici del territorio comunale\, un servizio di consegna libri presso i plessi che ne faranno richiesta al fine di garantire la continuità della collaborazione tra insegnanti e biblioteche coltivata in questi anni e permettere ai ragazzi di non rinunciare alla vasta offerta di pubblicazioni delle quali la Biblioteca dispone.
URL:https://vivibollate.it/evento/la-biblioteca-a-casa-tua/
LOCATION:MI
CATEGORIES:Bambini,cinema,economia,letteratura,Lettura,musica,pittura,religione,storia,teatro
ATTACH;FMTTYPE=image/png:https://vivibollate.it/wp-content/uploads/2020/11/1-1.png
END:VEVENT
BEGIN:VEVENT
DTSTART;TZID=Europe/Rome:20201124T090000
DTEND;TZID=Europe/Rome:20201203T120000
DTSTAMP:20260426T020711
CREATED:20201118T105416Z
LAST-MODIFIED:20201119T090834Z
UID:1098-1606208400-1606996800@vivibollate.it
SUMMARY:La Biblioteca a casa tua!
DESCRIPTION:La Biblioteca a casa tua! \nPer dare una risposta ad una reale esigenza del territorio e offrire una possibilità concreta ai cittadini bollatesi che amano leggere\, l’Assessorato alla Cultura e Pace sperimenta un nuovo servizio di consegna dei libri\, dvd e cd a domicilio a cura dei bibliotecari. \nLa precedenza sarà data alle fasce più fragili della popolazione che sono impossibilitate ad uscire di casa\, ma il servizio è fruibile da parte di tutti i residenti di Cassina Nuova che potranno prenotare libri\, dvd e cd e concordare la consegna che avverrà in due modalità: \n\nPer la zona centrale della frazione https://bit.ly/Cassina_biblioacasatua) telefonando allo 023511824 il lunedì e mercoledì dalle 14.30 alle 19\, il martedì dalle 9 alle 13\, e via mail all’indirizzo: biblioteca.cassina@csbno.net .\nSarà anche possibile ritirare i libri presso l’edicola Non solo edicola – Via San Bernardo 5 nei seguenti orari: da lunedì a venerdì dalle 7.30 alle 12.30 / 15.30 -18.30 e il sabato e la domenica dalle 7.30 alle 12.30.\n\nQuesto servizio avverrà nel totale rispetto delle norme di sicurezza vigenti. \nNon sarà invece effettuato il servizio di reso ed i libri consegnati saranno restituiti alla biblioteca da parte degli utenti stessi\, al termine dell’emergenza sanitaria. \nSarà inoltre attivato in collaborazione con gli istituti scolastici del territorio comunale\, un servizio di consegna libri presso i plessi che ne faranno richiesta al fine di garantire la continuità della collaborazione tra insegnanti e biblioteche coltivata in questi anni e permettere ai ragazzi di non rinunciare alla vasta offerta di pubblicazioni delle quali la Biblioteca dispone.
URL:https://vivibollate.it/evento/copy-2/
LOCATION:MI
CATEGORIES:Bambini,cinema,economia,letteratura,Lettura,musica,pittura,religione,storia,teatro
ATTACH;FMTTYPE=image/png:https://vivibollate.it/wp-content/uploads/2020/11/1-1-1.png
END:VEVENT
END:VCALENDAR