BEGIN:VCALENDAR
VERSION:2.0
PRODID:-//ViviBollate - ECPv6.15.13//NONSGML v1.0//EN
CALSCALE:GREGORIAN
METHOD:PUBLISH
X-WR-CALNAME:ViviBollate
X-ORIGINAL-URL:https://vivibollate.it
X-WR-CALDESC:Eventi per ViviBollate
REFRESH-INTERVAL;VALUE=DURATION:PT1H
X-Robots-Tag:noindex
X-PUBLISHED-TTL:PT1H
BEGIN:VTIMEZONE
TZID:Europe/Rome
BEGIN:DAYLIGHT
TZOFFSETFROM:+0100
TZOFFSETTO:+0200
TZNAME:CEST
DTSTART:20190331T010000
END:DAYLIGHT
BEGIN:STANDARD
TZOFFSETFROM:+0200
TZOFFSETTO:+0100
TZNAME:CET
DTSTART:20191027T010000
END:STANDARD
BEGIN:DAYLIGHT
TZOFFSETFROM:+0100
TZOFFSETTO:+0200
TZNAME:CEST
DTSTART:20200329T010000
END:DAYLIGHT
BEGIN:STANDARD
TZOFFSETFROM:+0200
TZOFFSETTO:+0100
TZNAME:CET
DTSTART:20201025T010000
END:STANDARD
BEGIN:DAYLIGHT
TZOFFSETFROM:+0100
TZOFFSETTO:+0200
TZNAME:CEST
DTSTART:20210328T010000
END:DAYLIGHT
BEGIN:STANDARD
TZOFFSETFROM:+0200
TZOFFSETTO:+0100
TZNAME:CET
DTSTART:20211031T010000
END:STANDARD
END:VTIMEZONE
BEGIN:VEVENT
DTSTART;TZID=Europe/Rome:20201010T170000
DTEND;TZID=Europe/Rome:20201011T183000
DTSTAMP:20260426T032151
CREATED:20200929T070117Z
LAST-MODIFIED:20200929T070117Z
UID:1046-1602349200-1602441000@vivibollate.it
SUMMARY:BILOLL in Festa - Biblioteca comunale di Bollate
DESCRIPTION:Sabato 10 ottobre \nOre 17   Inaugurazione della mostra  \nRITRATTI del Consiglio Comunale delle ragazze e dei ragazzi della Città di Bollate \nFotografie di Jordan Angelo Cozzi  \nLa mostra sarà visitabile fino al 24 ottobre in orario d’apertura della biblioteca.  \nIngresso consentito max 10 persone per volta. \nDomenica 11 ottobre  \nOre 10 \nAPERTURA DELLA MOSTRA MERCATO DEL LIBRO USATO \nIn piazza della biblioteca centinaia di libri accoglieranno i visitatori con una vasta scelta di generi e titoli a partire da 1€! \n  \nDalle 10 alle 12  \nFARMYARD TALES \nLittle Red Riding Hood and Questions and Answers about recycling and rubbish \nLetture ed ascolto di storie in lingua inglese. A seguire\, piccolo laboratorio dove per magia i colori compariranno!  \nSarà presente l’esposizione dei libri Usborne con possibilità di avere informazioni. \n\nA cura di Valentina Zepponi – Independent Usborne Organiser\nPer bambini da 4 a 8 anni. Su prenotazione\, max 15 bambini. \n  \n\nDalle 10.30 alle 12.30 e dalle 14.30 alle 16.30\, ogni mezz’ora  \nKAMI-STORIE \nLetture con il Kamishibai – teatro di carta \nA cura dei bibiliotecari\, i ragazzi del servizio civile e dei volontari \nLe storie del Tappeto Volante sono atterrate nella Stanza delle Meraviglie! \nPer aprirla basta formulare la parola magica “Apriti Sesamo!” \nRicordati di portare il tuo tappeto volante da casa!!! \nPer bambini da 2 a 4 anni. Su prenotazione. Ingressi ogni mezz’ora\, max 3 bambini per volta (o un nucleo familiare di 4 persone). \n  \nOre 15 Incontro con l‘autore  \nANTONIO FERRARA  \nReading a due voci di pubblicazioni per l’infanzia\, giovani adulti e adulti al fine di stimolare la coesione della comunità\, rinsaldare il patto educativo genitori-insegnanti\, contribuire all’elaborazione del trauma COVID\, alla luce di una serena ripartenza del nuovo anno scolastico. \nPosti limitati. Prenotazione consigliata. \n  \nOre 17.30   \nCLOSCIART \nCompagnia Eccentrici Dadarò \nC’era una volta una bufera così forte che portò un clown ad una panchina rossa. E poi tutto\, come nei sogni\, è possibile… \nSpettacolo di clownerie\, visual comedy e marchingegni teatrali. \nPosti limitati. Prenotazione consigliata. \n  \nPer partecipare agli eventi è consigliata la prenotazione:  \n02 35005508 – biblioteca.bollate@csbno.net \n13° FESTA D’AUTUNNO \nDomenica 11 ottobre dalle 10 alle 19 \nBancarelle e negozi aperti\, giochi per bimbi\, caldarroste con gli Alpini. \nPranzo a cura della Confraternita della Pentola di Senago con trippa. \n  \n  \nBIBLIOTECA COMUNALE DI BOLLATE \nPiazza C.A. Dalla Chiesa\, 30 \ntel: 02 35005508\nFB biblioteca bollate \nINSTAGRAM biblioteca_bollate \nwww.comune.bollate.mi.it \nbiblioteca.bollate@csbno.net \nhttps://webopac.csbno.net
URL:https://vivibollate.it/evento/biloll-in-festa-biblioteca-comunale-di-bollate/
LOCATION:Biblioteca Bollate centro\, Piazza C.A. Dalla Chiesa\, 30\, Bollate\, MI\, 20021
CATEGORIES:Bambini,Lettura,pittura,teatro
ATTACH;FMTTYPE=image/jpeg:https://vivibollate.it/wp-content/uploads/2020/09/locandina_BIBOLL_2020_MAIL_02.jpg
END:VEVENT
END:VCALENDAR