BEGIN:VCALENDAR
VERSION:2.0
PRODID:-//ViviBollate - ECPv6.15.13//NONSGML v1.0//EN
CALSCALE:GREGORIAN
METHOD:PUBLISH
X-WR-CALNAME:ViviBollate
X-ORIGINAL-URL:https://vivibollate.it
X-WR-CALDESC:Eventi per ViviBollate
REFRESH-INTERVAL;VALUE=DURATION:PT1H
X-Robots-Tag:noindex
X-PUBLISHED-TTL:PT1H
BEGIN:VTIMEZONE
TZID:Europe/Rome
BEGIN:DAYLIGHT
TZOFFSETFROM:+0100
TZOFFSETTO:+0200
TZNAME:CEST
DTSTART:20220327T010000
END:DAYLIGHT
BEGIN:STANDARD
TZOFFSETFROM:+0200
TZOFFSETTO:+0100
TZNAME:CET
DTSTART:20221030T010000
END:STANDARD
BEGIN:DAYLIGHT
TZOFFSETFROM:+0100
TZOFFSETTO:+0200
TZNAME:CEST
DTSTART:20230326T010000
END:DAYLIGHT
BEGIN:STANDARD
TZOFFSETFROM:+0200
TZOFFSETTO:+0100
TZNAME:CET
DTSTART:20231029T010000
END:STANDARD
BEGIN:DAYLIGHT
TZOFFSETFROM:+0100
TZOFFSETTO:+0200
TZNAME:CEST
DTSTART:20240331T010000
END:DAYLIGHT
BEGIN:STANDARD
TZOFFSETFROM:+0200
TZOFFSETTO:+0100
TZNAME:CET
DTSTART:20241027T010000
END:STANDARD
BEGIN:DAYLIGHT
TZOFFSETFROM:+0100
TZOFFSETTO:+0200
TZNAME:CEST
DTSTART:20250330T010000
END:DAYLIGHT
BEGIN:STANDARD
TZOFFSETFROM:+0200
TZOFFSETTO:+0100
TZNAME:CET
DTSTART:20251026T010000
END:STANDARD
BEGIN:DAYLIGHT
TZOFFSETFROM:+0100
TZOFFSETTO:+0200
TZNAME:CEST
DTSTART:20260329T010000
END:DAYLIGHT
BEGIN:STANDARD
TZOFFSETFROM:+0200
TZOFFSETTO:+0100
TZNAME:CET
DTSTART:20261025T010000
END:STANDARD
END:VTIMEZONE
BEGIN:VTIMEZONE
TZID:UTC
BEGIN:STANDARD
TZOFFSETFROM:+0000
TZOFFSETTO:+0000
TZNAME:UTC
DTSTART:20210101T000000
END:STANDARD
END:VTIMEZONE
BEGIN:VEVENT
DTSTART;TZID=Europe/Rome:20250323T150000
DTEND;TZID=Europe/Rome:20250323T150000
DTSTAMP:20260423T171243
CREATED:20250317T105542Z
LAST-MODIFIED:20250317T110132Z
UID:3104-1742742000-1742742000@vivibollate.it
SUMMARY:Bollate a Sei Zampe "IN PUNTA DI NASO"
DESCRIPTION:Il 25 marzo\, ore 15.00 \n  \nTorna la Bollate a sei zampe con l’evento “In Punta di Naso“\, al parco Martin Luther King di Bollate! \nL’iniziativa prevede la presenza dell’istruttore cinofilo Lorenzo Balzetti che guiderà alla condotta del proprio cane\, con percorso olfattivo e attività ludiche.  \nUn evento benefico per comprendere il linguaggio del proprio amico peloso! \n  \nIl programma completo al link:     https://www.instagram.com/p/DHQcuHQivBf/ \n  \n  \nCERCASI VOLONTARI!  \n \nCollabora con l’Associazione e diventa volontario per sostenere chi ha bisogno! Info al 3474293150
URL:https://vivibollate.it/evento/bollate-a-sei-zampe-in-punta-di-naso/
LOCATION:Parco Martin Luther King\, Via Attimo 46 - 20021 Bollate (MI)\, Italia
CATEGORIES:Passeggiate,Percorso olfattivo
ATTACH;FMTTYPE=image/png:https://vivibollate.it/wp-content/uploads/2025/03/bollate-a-sei-zampe.png
ORGANIZER;CN="Associazione Bollate a 6 zampe":MAILTO:bollatea6zampe@gmail.com
END:VEVENT
BEGIN:VEVENT
DTSTART;TZID=Europe/Rome:20240607T180000
DTEND;TZID=Europe/Rome:20240607T200000
DTSTAMP:20260423T171243
CREATED:20240528T100016Z
LAST-MODIFIED:20240530T072025Z
UID:2813-1717783200-1717790400@vivibollate.it
SUMMARY:UN pensiero ALLE RAGAZZE - 7 GIUGNO 2024
DESCRIPTION:Castellazzo di Bollate | Venerdì 7 giugno \n7 giugno: una passeggiata collettiva in ricordo dell’esplosione del polverificio Sutter & Thevenot di Castellazzo. \nVenerdì 7 giugno una camminata ricorderà l’episodio dello scoppio della Fabbrica Sutter & Thévenot\, avvenuto nel 1918 a Castellazzo di Bollate\, raggiungendo i luoghi dei fatti. Un invito non solo alla sensibilizzazione su temi importanti come il lavoro ed il ruolo civile e sociale delle donne\, ma soprattutto al ricordo delle 59 vittime\, per la maggior parte donne\, che persero la vita durante lo scoppio della fabbrica di munizioni in pieno periodo bellico. \nLa passeggiata partirà\, come lo scorso anno da Via San Pietro\, nel parcheggio della stazione di Bollate Nord\, e il percorso sarà scandito da alcune tappe in cui verranno letti brani tratti dal romanzo “La fabbrica delle ragazze” di Ilaria Rossetti\, che fa rivivere tra le sue pagine proprio quei luoghi che furono teatro della tragedia nel ricordo di tante giovani vite spezzate.                  L’arrivo alla cabina elettrica\, unico manufatto dell’epoca rimasto presente sul luogo e testimone dei fatti\, concluderà l’evento\, con l’intervento dell’Assessora alla Cultura e Pace. \n  \nPROGRAMMA \nOre 17.45     Ritrovo presso il parcheggio della stazione di Bollate Nord\, Via San Pietro.\nOre 18.00    Partenza del gruppo\nOre 19.00    Arrivo al murale della cabina elettrica\nOre 20.00   Ritorno in via San Pietro \n  \nIniziativa gratuita. \nInfo presso l’Ufficio Cultura del Comune di Bollate | 02.35005575 | cultura@comune.bollate.mi.it \n  \nSi ringrazia la Fondazione Augusto Rancilio\, di Villa Arconati per la collaborazione.
URL:https://vivibollate.it/evento/un-pensiero-alle-ragazze/
LOCATION:Cantun Sciatin\, Bollate
CATEGORIES:Passeggiate,storia
ATTACH;FMTTYPE=image/jpeg:https://vivibollate.it/wp-content/uploads/2024/05/post-7-giugno.jpg
ORGANIZER;CN="Assessorato alla Cultura e Pace":MAILTO:cultura@comune.bollate.mi.it
END:VEVENT
BEGIN:VEVENT
DTSTART;TZID=Europe/Rome:20230713T210000
DTEND;TZID=Europe/Rome:20230713T223000
DTSTAMP:20260423T171243
CREATED:20230523T101506Z
LAST-MODIFIED:20230523T101550Z
UID:2331-1689282000-1689287400@vivibollate.it
SUMMARY:𝐓𝐎𝐎 𝐌𝐀𝐍𝐘 𝐙𝐎𝐎𝐙 (FESTIVAL VILLA ARCONATI)
DESCRIPTION:Sono in tre ma suonano per cento. Non a caso si definiscono\, e hanno ragione\, la più grande brass band del mondo. E secondo noi non esiste migliore definizione e non abbiamo nulla da aggiungere se non che sarà una grandissima festa\, ottima per concludere degnamente la 35^ edizione del festival.\n\n\nPrevendite disponibili su: Dice\n\nscopri di più sul festival e sugli artisti\n         https://festivalarconati.com/
URL:https://vivibollate.it/evento/%f0%9d%90%93%f0%9d%90%8e%f0%9d%90%8e-%f0%9d%90%8c%f0%9d%90%80%f0%9d%90%8d%f0%9d%90%98-%f0%9d%90%99%f0%9d%90%8e%f0%9d%90%8e%f0%9d%90%99-festival-villa-arconati/
LOCATION:Villa Arconati\, Via Madonna Fametta\, 1\, Bollate\, Milano\, 20021\, Italia
CATEGORIES:Adulti,Castellazzo,concerto,musica,Passeggiate,Villa Arconati
ATTACH;FMTTYPE=image/jpeg:https://vivibollate.it/wp-content/uploads/2023/05/FVA23-post-Zooz.jpg
ORGANIZER;CN="Assessorato alla Cultura e Pace":MAILTO:cultura@comune.bollate.mi.it
END:VEVENT
BEGIN:VEVENT
DTSTART;TZID=Europe/Rome:20230712T210000
DTEND;TZID=Europe/Rome:20230712T223000
DTSTAMP:20260423T171243
CREATED:20230523T100926Z
LAST-MODIFIED:20230523T101623Z
UID:2327-1689195600-1689201000@vivibollate.it
SUMMARY:𝐒𝐔𝐙𝐀𝐍𝐍𝐄 𝐕𝐄𝐆𝐀 (FESTIVAL VILLA ARCONATI)
DESCRIPTION:Storie cantate\, ballate simbolo del canto intimista femminile. La forza della sua voce introversa sarà per sempre un classico del canto di ogni era. L’atmosfera magica è il frutto di una fusione del bagaglio che Suzanne Vega porta con sé: voce onirica\, testi cupi ma enunciati come in una favola e tocchi commoventi.\n\n\nPrevendite disponibili su: MailTicket e TicketOne\n\nscopri di più sul festival e sugli artisti\n         https://festivalarconati.com/
URL:https://vivibollate.it/evento/%f0%9d%90%92%f0%9d%90%94%f0%9d%90%99%f0%9d%90%80%f0%9d%90%8d%f0%9d%90%8d%f0%9d%90%84-%f0%9d%90%95%f0%9d%90%84%f0%9d%90%86%f0%9d%90%80-festival-villa-arconati/
LOCATION:Villa Arconati\, Via Madonna Fametta\, 1\, Bollate\, Milano\, 20021\, Italia
CATEGORIES:Adulti,concerto,musica,Passeggiate,Villa Arconati
ATTACH;FMTTYPE=image/jpeg:https://vivibollate.it/wp-content/uploads/2023/05/FVA23-post-vega.jpg
ORGANIZER;CN="Assessorato alla Cultura e Pace":MAILTO:cultura@comune.bollate.mi.it
END:VEVENT
BEGIN:VEVENT
DTSTART;TZID=Europe/Rome:20230710T210000
DTEND;TZID=Europe/Rome:20230710T223000
DTSTAMP:20260423T171243
CREATED:20230523T100344Z
LAST-MODIFIED:20230523T101652Z
UID:2323-1689022800-1689028200@vivibollate.it
SUMMARY:𝐄𝐋𝐈𝐎 (FESTIVAL VILLA ARCONATI)
DESCRIPTION:𝐄𝐋𝐈𝐎 in “𝐶𝑖 𝑣𝑢𝑜𝑙𝑒 𝑜𝑟𝑒𝑐𝑐ℎ𝑖𝑜” canta e recita Enzo Jannacci\n\n\nUn omaggio in musica e parole arricchito da scritti e pensieri di compagni di strada\, reali o ideali\, che può sembrare una sorta di passaggio di testimone tra due generazioni attraverso il racconto di una Milano che è stata e di una Milano che è ora\, oggi\, colorata grazie al sottofondo delle canzoni di Jannacci che Elio reinterpreterà sul palco del Festival.\n\n\nPrevendite disponibili su: MailTicket e Ticketone\n\nscopri di più sul festival e sugli artisti\n         https://festivalarconati.com/
URL:https://vivibollate.it/evento/%f0%9d%90%84%f0%9d%90%8b%f0%9d%90%88%f0%9d%90%8e-festival-villa-arconati/
LOCATION:Villa Arconati\, Via Madonna Fametta\, 1\, Bollate\, Milano\, 20021\, Italia
CATEGORIES:Adulti,concerto,musica,Passeggiate,Villa Arconati
ATTACH;FMTTYPE=image/jpeg:https://vivibollate.it/wp-content/uploads/2023/05/FVA23-post-elio.jpg
ORGANIZER;CN="Assessorato alla Cultura e Pace":MAILTO:cultura@comune.bollate.mi.it
END:VEVENT
BEGIN:VEVENT
DTSTART;TZID=Europe/Rome:20230705T210000
DTEND;TZID=Europe/Rome:20230705T223000
DTSTAMP:20260423T171243
CREATED:20230523T095145Z
LAST-MODIFIED:20230523T095145Z
UID:2320-1688590800-1688596200@vivibollate.it
SUMMARY:𝐍𝐀𝐓𝐀𝐋𝐈𝐄 𝐈𝐌𝐁𝐑𝐔𝐆𝐋𝐈𝐀 (FESTIVAL VILLA ARCONATI)
DESCRIPTION: È il 1997\, Natalie Imbruglia incide il suo primo disco\, destinato a portarle molta fortuna in tutti i sensi. La prima canzone del disco la canti ancora oggi\, l’abbiamo ancora tutti in testa e a volte riaffora. Ora è tornata\, più consapevole\, più matura ma sempre con la stessa voce unica e indimenticabile. Un altro appuntamento per un mondo nuovo\, esplorato tempo fa ma ancora tutto da scoprire.\n\n\nPrevendite disponibili su: MailTicket e TicketOne\n\nscopri di più sul festival e sugli artisti\n         https://festivalarconati.com/
URL:https://vivibollate.it/evento/%f0%9d%90%8d%f0%9d%90%80%f0%9d%90%93%f0%9d%90%80%f0%9d%90%8b%f0%9d%90%88%f0%9d%90%84-%f0%9d%90%88%f0%9d%90%8c%f0%9d%90%81%f0%9d%90%91%f0%9d%90%94%f0%9d%90%86%f0%9d%90%8b%f0%9d%90%88%f0%9d%90%80-festi/
LOCATION:Villa Arconati\, Via Madonna Fametta\, 1\, Bollate\, Milano\, 20021\, Italia
CATEGORIES:Adulti,concerto,musica,Passeggiate,Villa Arconati
ATTACH;FMTTYPE=image/jpeg:https://vivibollate.it/wp-content/uploads/2023/05/FVA23-post-Imbruglia.jpg
ORGANIZER;CN="Assessorato alla Cultura e Pace":MAILTO:cultura@comune.bollate.mi.it
END:VEVENT
BEGIN:VEVENT
DTSTART;TZID=Europe/Rome:20230704T210000
DTEND;TZID=Europe/Rome:20230704T223000
DTSTAMP:20260423T171244
CREATED:20230523T093205Z
LAST-MODIFIED:20230523T101739Z
UID:2317-1688504400-1688509800@vivibollate.it
SUMMARY:RAPHAEL GUALAZZI (FESTIVAL VILLA ARCONATI)
DESCRIPTION:Tra realtà e fantasia ma con un piano preciso e perfettamente congeniato in testa e sotto le sue sapienti dita che da anni\, tra carioca\, calde estati e some crazy rag blues riesce sempre a farci emozionare\, sorridere\, pensare e cantare.\nRaphael entra con suo ritmo e suoi 88 tasti nel grande palcoscenico della Villa e non vediamo l’ora.\n\n\n\nPrevendite disponibili su: MailTicket e TicketOne\n\n\nscopri di più sul festival e sugli artisti\n         https://festivalarconati.com/
URL:https://vivibollate.it/evento/raphael-gualazzi-festival-villa-arconati/
LOCATION:Villa Arconati\, Via Madonna Fametta\, 1\, Bollate\, Milano\, 20021\, Italia
CATEGORIES:Adulti,concerto,musica,Passeggiate,Villa Arconati
ATTACH;FMTTYPE=image/jpeg:https://vivibollate.it/wp-content/uploads/2023/05/FVA23-post-Gualazzi.jpg
ORGANIZER;CN="Assessorato alla Cultura e Pace":MAILTO:cultura@comune.bollate.mi.it
END:VEVENT
BEGIN:VEVENT
DTSTART;TZID=Europe/Rome:20230702T060000
DTEND;TZID=Europe/Rome:20230702T070000
DTSTAMP:20260423T171244
CREATED:20230523T092202Z
LAST-MODIFIED:20230615T070538Z
UID:2310-1688277600-1688281200@vivibollate.it
SUMMARY:FABRIZIO GRECCHI (FESTIVAL VILLA ARCONATI)
DESCRIPTION:𝐵𝑒𝑎𝑡𝑙𝑒𝑠 𝑃𝑖𝑎𝑛𝑜 𝑆𝑜𝑙𝑜\n\n\nDue mani\, un pianoforte\, 88 tasti e un repertorio quasi infinito di canzoni da cui attingere. I Beatles risuoneranno grazie a Fabrizio Grecchi e al suo pianoforte per il nostro concerto più speciale. Un’esibizione all’alba nella nostra villa che sarà il culmine della passeggiata che partirà dal centro della città di Bollate fino agli splendidi giardini storici di Villa Arconati\, percorrendo sentieri immersi nella natura del Parco delle Groane e l’Antica Strada Romana.\n\n\n\nPrevendite disponibili su: MailTicket\n\n\n\nPasseggiata all’alba\nVuoi provare l’esperienza unica e suggestiva di vivere il passaggio dall’oscurità della notte ai colori dell’aurora?\nPartecipa alla passeggiata in compagnia che ti condurrà dal centro della città ancora assopita\, percorrendo sentieri immersi nella natura del Parco delle Groane e l’Antica Strada Romana fino agli splendidi giardini storici di Villa Arconati-FAR.\nIn collaborazione con Gruppi di Cammino Bollate.\n\nRitrovo alle ore 5.00 nel parcheggio della piscina comunale di via Dante\, a Bollate.\nInfo: 02.35005575 – cultura@comune.bollate.mi.it\n\n\nscopri di più sul festival e sugli artisti\n         https://festivalarconati.com/
URL:https://vivibollate.it/evento/fabrizio-grecchi-festival-villa-arconati/
LOCATION:Villa Arconati\, Via Madonna Fametta\, 1\, Bollate\, Milano\, 20021\, Italia
CATEGORIES:Adulti,Castellazzo,concerto,musica,Passeggiate,Villa Arconati
ATTACH;FMTTYPE=image/jpeg:https://vivibollate.it/wp-content/uploads/2023/05/FVA23-post-Grecchi.jpg
ORGANIZER;CN="Assessorato alla Cultura e Pace":MAILTO:cultura@comune.bollate.mi.it
END:VEVENT
BEGIN:VEVENT
DTSTART;TZID=Europe/Rome:20230628T210000
DTEND;TZID=Europe/Rome:20230628T223000
DTSTAMP:20260423T171244
CREATED:20230523T090720Z
LAST-MODIFIED:20230523T090720Z
UID:2304-1687986000-1687991400@vivibollate.it
SUMMARY:𝐀𝐍𝐃𝐑𝐄𝐀 𝐏𝐄𝐍𝐍𝐀𝐂𝐂𝐇𝐈 (FESTIVAL VILLA ARCONATI)
DESCRIPTION:“Pojana e i suoi fratelli”\ndi e con Andrea Pennacchi\nmusiche dal vivo di Giorgio Gobbo e Gianluca Segato\nproduzione Teatro Boxer\nin collaborazione con People\ndistribuzione Terry Chegia \n\nUna vena rock spiazzante\, un’anima inquieta che tranquillizza\, un’energia punk bonaria in grado di trascinare lo spettatore in luoghi vicini che paiono mitologici se raccontati dalla sua voce. Il Festival di Villa Arconati inaugura la sua 35^ edizione con un ospite d’eccezione: 𝐀𝐍𝐃𝐑𝐄𝐀 𝐏𝐄𝐍𝐍𝐀𝐂𝐂𝐇𝐈 che\, con 𝑃𝑜𝑗𝑎𝑛𝑎 𝑒 𝑖 𝑠𝑢𝑜𝑖 𝑓𝑟𝑎𝑡𝑒𝑙𝑙𝑖\, riuscirà a farci vivere il suono e l’atmosfera di un mondo che forse ci è scivolato tra le mani\, diventando ora racconto e leggenda.\n\n\n\nIniziamo nel migliore dei modi. E non vediamo l’ora.\n\n\n\nPrevendite disponibili su: MailTicket e TicketOne\n\n\n\nscopri di più sul festival e sugli artisti\n         https://festivalarconati.com/
URL:https://vivibollate.it/evento/%f0%9d%90%80%f0%9d%90%8d%f0%9d%90%83%f0%9d%90%91%f0%9d%90%84%f0%9d%90%80-%f0%9d%90%8f%f0%9d%90%84%f0%9d%90%8d%f0%9d%90%8d%f0%9d%90%80%f0%9d%90%82%f0%9d%90%82%f0%9d%90%87%f0%9d%90%88-festival-villa-ar/
LOCATION:Villa Arconati\, Via Madonna Fametta\, 1\, Bollate\, Milano\, 20021\, Italia
CATEGORIES:Castellazzo,concerto,musica,Passeggiate,Villa Arconati
ATTACH;FMTTYPE=image/jpeg:https://vivibollate.it/wp-content/uploads/2023/05/FVA23-post-pennachi.jpg
ORGANIZER;CN="Assessorato alla Cultura e Pace":MAILTO:cultura@comune.bollate.mi.it
END:VEVENT
BEGIN:VEVENT
DTSTART;TZID=Europe/Rome:20230607T180000
DTEND;TZID=Europe/Rome:20230607T203000
DTSTAMP:20260423T171244
CREATED:20230529T095601Z
LAST-MODIFIED:20230529T095601Z
UID:2372-1686160800-1686169800@vivibollate.it
SUMMARY:Una passeggiata collettiva in ricordo dell’esplosione del polverificio Sutter & Thevenot di Castellazzo
DESCRIPTION:Mercoledì 7 giugno l’episodio dello scoppio della Fabbrica Sutter & Thévenot\, avvenuto nel 1918 a Castellazzo di Bollate\, verrà ricordato attraverso una passeggiata che\, con ritrovo alle ore 18.00 dal parcheggio della Stazione di Bollate Nord in via S. Pietro\, raggiungerà i luoghi dei fatti.\nUn invito non solo a ricordare\, ma anche a riflettere su temi importanti come la dignità\, i diritti\, il lavoro\, la giustizia\, la guerra\, il ruolo civile e sociale delle donne.\nLa passeggiata si concluderà alla cabina elettrica\, unico manufatto dell’epoca rimasto presente sul luogo e testimone dei fatti\, e sulla quale nel 2018 l’artista Ale Senso ha realizzato il murale in ricordo delle operaie morte nella tragedia.\nAi piedi della cabina l’Assessore alla Cultura e Pace Lucia Albrizio metterà a dimora una pianta di rose bianche\, per rinnovare simbolicamente la memoria di tante giovani vite spezzate\, allora come ancora oggi\, su un luogo di lavoro.\nA seguire verranno lette alcune suggestive testimonianze storiche delle lavoratrici della fabbrica sopravvissute allo scoppio e un estratto del racconto “52 rose di polvere” scritto dal bollatese Davide Settembre e ispirato all’episodio dello scoppio dello stabilimento Sutter & Thevenot. \nOre 18.00: Ritrovo presso il parcheggio della stazione di Bollate Nord\, Via San Pietro.\nOre 18.15: partenza del gruppo\nOre 19.00: Arrivo alla cabina elettrica del murale\nOre 20.00: ritorno in via San Pietro \nIniziativa gratuita\nInfo presso l’Ufficio Cultura del Comune di Bollate | 02.35005575 | cultura@comune.bollate.mi.it
URL:https://vivibollate.it/evento/una-passeggiata-collettiva-in-ricordo-dellesplosione-del-polverificio-sutter-thevenot-di-castellazzo/
LOCATION:Castellazzo di Bollate\, Via Cascina Prevosta\, Bollate\, Milano\, 20021\, Italia
CATEGORIES:Adulti,Castellazzo,Passeggiate
ATTACH;FMTTYPE=image/jpeg:https://vivibollate.it/wp-content/uploads/2023/05/6.jpg
ORGANIZER;CN="Assessorato alla Cultura e Pace":MAILTO:cultura@comune.bollate.mi.it
END:VEVENT
BEGIN:VEVENT
DTSTART;TZID=Europe/Rome:20230520T143000
DTEND;TZID=Europe/Rome:20230520T200000
DTSTAMP:20260423T171244
CREATED:20230516T073023Z
LAST-MODIFIED:20230516T090021Z
UID:2294-1684593000-1684612800@vivibollate.it
SUMMARY:In bicicletta alla scoperta di Mind\, l'ex area EXPO 2015
DESCRIPTION:Un tour guidato alla scoperta del territorio\, fra architettura\, storia e natura\, e di MIND – Milano Innovation District: nuovo polo dell’innovazione\, sorto all’interno dell’ex area Expo2015. A seguire\, la performance live di Piano City Milano. \nProgramma: \n\n\n\nOre 14.00: ritrovo presso il parcheggio della Stazione FN Bollate Nord\, via San Pietro.\nOre 14.30: partenza. Tappa 1: La Fabbrica Dimenticata – Tappa 2: Uno sguardo su Villa Arconati – Tappa 3: Le vie d’Acqua.\nOre 16.30: arrivo a MIND e visita guidata al sito: Arexpo e Fondazione Triulza\, MIND Village\, Human Technopole\, il racconto della costruzione Ospedale Galeazzi.\nOre 18: concerto di Piano City Milano: “MIND Classica” – Pianista: Anthony Ciaccio. Autori: F. Liszt\, O. Respighi\, M. Clementi\, G. Sgambati\, F. Chopin\nRientro in gruppo al termine (ore 19 circa). Possibilità di rientro libero.\n\n\n\nIniziativa gratuita. Possibilità di noleggio bicicletta (a pagamento) presso la Velostazione di Bollate Nord. Disponibilità max 20 biciclette\, da prenotare entro il giorno prima dell’evento al numero 327.2578817. \nPer info: Ufficio Cultura del Comune di Bollate: 02.35005575\nPrenotazioni qui \n  \nIl percorso\, per una lunghezza di circa 10 km\, non presenta particolari difficoltà. E’ raccomandato un abbigliamento comodo\, calzature adatte\, una borraccia d’acqua\, una catena con lucchetto per la bici e il controllo preventivo della bicicletta (in particolare i freni). Il percorso fino a MIND si svolgerà prevalentemente sulle piste ciclopedonali che attraversano le città di Bollate\, Arese e Rho. \nAi partecipanti è richiesto di attenersi alle indicazioni degli organizzatori\, rispettare la natura e il territorio durante la biciclettata\, assicurare il buono stato della bici che andranno ad utilizzare\, assumersi la completa responsabilità degli eventuali danni che potrebbero arrecare a se stessi\, persone e cose durante il percorso\, sollevando l’organizzazione da qualsiasi responsabilità in proposito. \n 
URL:https://vivibollate.it/evento/in-bicicletta-alla-scoperta-di-mind-lex-area-expo-2015/
LOCATION:Bollate Nord\, Via S.Pietro\, Bollate\, Milano\, 20021\, Italia
CATEGORIES:Biciclettata,Passeggiate
ATTACH;FMTTYPE=image/jpeg:https://vivibollate.it/wp-content/uploads/2023/05/biciclettata.jpg
ORGANIZER;CN="Assessorato alla Cultura e Pace":MAILTO:cultura@comune.bollate.mi.it
END:VEVENT
BEGIN:VEVENT
DTSTART;TZID=Europe/Rome:20230520T094500
DTEND;TZID=Europe/Rome:20230520T170000
DTSTAMP:20260423T171244
CREATED:20230428T095351Z
LAST-MODIFIED:20230428T095351Z
UID:2286-1684575900-1684602000@vivibollate.it
SUMMARY:Visita guidata nella Milano Manzoniana
DESCRIPTION:Tornano le iniziative a tema Manzoniano con un itinerario nella Milano manzoniana\, per ripercorrere e visitare i luoghi incontrati da Renzo al suo arrivo a Milano\, a quel tempo piagata dalla peste e dalle rivolte popolari per il pane\, ma anche per passeggiare nel quartiere di Alessandro Manzoni e visitare la sua casa a pochi passi da Piazza della Scala e Palazzo Marino. \n▪ Ore 9\,45 – ritrovo in stazione Bollate centro\n▪ Ore 9\,55 – treno passante per Lodi – fermata Porta Venezia.\n▪ Arrivo a Porta Venezia e visita al cortile di Palazzo Luraschi\, il cosiddetto palazzo dei Promessi Sposi; visita della chiesa di San Carlo al Lazzaretto e dell’ultimo nucleo di cellette rimasto integro di quello che fu il Lazzaretto in via San Gregorio.\n▪ Pausa pranzo libera\n▪ Ore 14 – visita guidata alla casa di Alessandro Manzoni in via Morone e dei dintorni di piazza San Fedele\, con la chiesa omonima\, frequentata dall’autore. \nCosto dell’iniziativa per ciascun partecipante: 10 euro per la visita a casa Manzoni oltre i biglietti ferroviari.\nDisponibilità: 25 posti\nInfo e prenotazioni presso l’Ufficio Cultura del Comune di Bollate (0235005575 – cultura@comune.bollate.mi.it)
URL:https://vivibollate.it/evento/visita-guidata-nella-milano-manzoniana/
LOCATION:Milano\, Milano\, 20121\, Italia
CATEGORIES:Adulti,gruppo di lettura,letteratura,Passeggiate,romanzo,storia
ATTACH;FMTTYPE=image/jpeg:https://vivibollate.it/wp-content/uploads/2023/04/MANZONI.jpeg
ORGANIZER;CN="Assessorato alla Cultura e Pace":MAILTO:cultura@comune.bollate.mi.it
END:VEVENT
BEGIN:VEVENT
DTSTART;TZID=UTC:20221002T093000
DTEND;TZID=UTC:20221002T150000
DTSTAMP:20260423T171244
CREATED:20220913T094606Z
LAST-MODIFIED:20220913T094606Z
UID:1847-1664703000-1664722800@vivibollate.it
SUMMARY:Passeggiata d'autunno al Castellazzo di Bollate - 2 ottobre
DESCRIPTION:Domenica 2 ottobre\, in occasione dell’evento E-PIC LAND X VILLE APERTE\, vi accompagneremo nei percorsi intorno a Villa Arconati\,  passeggiando nelle brughiere del Parco delle Groane per l’ultimo appuntamento delle Passeggiate al Castellazzo di Bollate. \nISCRIZIONE OBBLIGATORIA QUI: https://www.eventbrite.it/e/biglietti-passeggiata-dautunno-411955268297 \nPer il programma completo di E-PIC LAND X VILLE APERTE vai al link → https://www.facebook.com/events/2114119148772658/?acontext=%7B%22ref%22%3A%2252%22%2C%22action_history%22%3A%22[%7B%5C%22surface%5C%22%3A%5C%22share_link%5C%22%2C%5C%22mechanism%5C%22%3A%5C%22share_link%5C%22%2C%5C%22extra_data%5C%22%3A%7B%5C%22invite_link_id%5C%22%3A765732344718435%7D%7D]%22%7D \nRITROVO | ore 9:15 presso la stazione FN di Bollate Nord \nPARTENZA | ore 9:30 \nARRIVO IN VILLA | ore 11.00 \nTOUR GUIDATO al Giardino di Villa Arconati | ore 12:30 – (durata 20 minuti ca.) \nRIENTRO | ore 15.00 per chi vorrà partecipare agli eventi in villa\, o libero in qualsiasi momento.
URL:https://vivibollate.it/evento/passeggiata-dautunno-al-castellazzo-di-bollate-2-ottobre/
LOCATION:Castellazzo di Bollate\, Via Cascina Prevosta\, Bollate\, Milano\, 20021\, Italia
CATEGORIES:Castellazzo,Passeggiate,storia,Villa Arconati
ATTACH;FMTTYPE=application/pdf:https://vivibollate.it/wp-content/uploads/2022/09/evento-fb-autunno_compressed.pdf
END:VEVENT
BEGIN:VEVENT
DTSTART;VALUE=DATE:20221002
DTEND;VALUE=DATE:20221003
DTSTAMP:20260423T171244
CREATED:20220926T124812Z
LAST-MODIFIED:20220926T124812Z
UID:1908-1664668800-1664755199@vivibollate.it
SUMMARY:E-PIC LAND X VILLE APERTE (2 ottobre)
DESCRIPTION:e-pic land incontra e diviene Ville Aperte: un palinsesto di iniziative ricco e interessante che mette in relazione Ville di Delizia e Territorio e offre esperienze uniche ed eventi diffusi. \nDomenica 2 Ottobre\, ultima giornata di Ville Aperte\, E-Pic land e Fondazione Augusto Rancilio vi invitano a scoprire le bellezze di Villa Arconati in una giornata di apertura straordinaria dedicata a tutti – dalle famiglie agli art addicted – attraverso talk\, laboratori e momenti conviviali. Una giornata di cultura e divertimento per farsi sorprendere dalla Bellezza\, per vivere i laghetti del Castellazzo e i suoi teatri\, i labirinti vegetali\, per scoprire i segreti della dimora storica e\, durante i tour in bici\, ritrovare un territorio variegato e affascinante fatto di canali\, piane\, boschi e brughiere e di sempre sorprendenti ed uniche dimore storiche. \nLa Villa è raggiungibile con la passeggiata a piedi o partecipando alle biciclettate che partiranno da Villa Burba di Rho e Villa Reale di Monza\, passando rispettivamente da Villa Litta a Lainate e Villa Bagatti Valsecchi a Varedo o\, autonomamente\, in treno e in auto. \nQui il Link dell’evento con il programma completo: https://fb.me/e/1HNAWzVrh \n→ L’ACCESSO AGLI EVENTI E’ GRATUITO e a numero limitato CON PRE-REGISTRAZIONE OBBLIGATORIA
URL:https://vivibollate.it/evento/e-pic-land-x-ville-aperte-2-ottobre/
LOCATION:Villa Arconati\, Via Madonna Fametta\, 1\, Bollate\, Milano\, 20021\, Italia
CATEGORIES:Bambini,Castellazzo,Passeggiate,Villa Arconati
ATTACH;FMTTYPE=image/jpeg:https://vivibollate.it/wp-content/uploads/2022/09/305935894_210949654597370_4972500456353599954_n.jpg
END:VEVENT
END:VCALENDAR