BEGIN:VCALENDAR
VERSION:2.0
PRODID:-//ViviBollate - ECPv6.15.13//NONSGML v1.0//EN
CALSCALE:GREGORIAN
METHOD:PUBLISH
X-WR-CALNAME:ViviBollate
X-ORIGINAL-URL:https://vivibollate.it
X-WR-CALDESC:Eventi per ViviBollate
REFRESH-INTERVAL;VALUE=DURATION:PT1H
X-Robots-Tag:noindex
X-PUBLISHED-TTL:PT1H
BEGIN:VTIMEZONE
TZID:Europe/Rome
BEGIN:DAYLIGHT
TZOFFSETFROM:+0100
TZOFFSETTO:+0200
TZNAME:CEST
DTSTART:20190331T010000
END:DAYLIGHT
BEGIN:STANDARD
TZOFFSETFROM:+0200
TZOFFSETTO:+0100
TZNAME:CET
DTSTART:20191027T010000
END:STANDARD
BEGIN:DAYLIGHT
TZOFFSETFROM:+0100
TZOFFSETTO:+0200
TZNAME:CEST
DTSTART:20200329T010000
END:DAYLIGHT
BEGIN:STANDARD
TZOFFSETFROM:+0200
TZOFFSETTO:+0100
TZNAME:CET
DTSTART:20201025T010000
END:STANDARD
BEGIN:DAYLIGHT
TZOFFSETFROM:+0100
TZOFFSETTO:+0200
TZNAME:CEST
DTSTART:20210328T010000
END:DAYLIGHT
BEGIN:STANDARD
TZOFFSETFROM:+0200
TZOFFSETTO:+0100
TZNAME:CET
DTSTART:20211031T010000
END:STANDARD
END:VTIMEZONE
BEGIN:VEVENT
DTSTART;TZID=Europe/Rome:20200909T100000
DTEND;TZID=Europe/Rome:20200909T110000
DTSTAMP:20260422T003806
CREATED:20200716T073537Z
LAST-MODIFIED:20200716T095310Z
UID:979-1599645600-1599649200@vivibollate.it
SUMMARY:"Il Tappeto Volante" - Storie per ridere\, sorridere e ricominciare
DESCRIPTION:Dal 15 luglio riprendono in biblioteca le attività per bambine e bambini con le letture ad alta voce de “Il tappeto volante: storie per ridere\, sorridere e ricominciare”\, un ciclo di incontri per bambini dai 3 ai 7 anni che proseguirà sino alla metà di settembre.\nPer partecipare è necessario effettuare l’iscrizione inviando una mail a biblioteca.bollate@csbno.net: verranno così date tutte le informazioni per essere presenti in sicurezza. Ai piccoli partecipanti verrà richiesto di portare un tappetino o una coperta per sedersi con comodità nel giardino della biblioteca.\nL’ingresso è gratuito e consentito per piccoli gruppi\, nel rispetto delle norme anti-Covid ma\, qualora ci fossero numerose richieste\, le letture verranno replicate un’ora dopo. Verranno invece annullate in caso di maltempo. \nQuesto il calendario: \n  \nTIPI STRANI\n9 settembre ore 10\,00\n“Dov’è la casa dell’aquila?”\, “Mezzacalzetta dove sei” e “I cinque malfatti”\n11 settembre ore 17\,00\n“Tram!”\, “Il disastrosissimo disastro di Harold Sniper Pott” e “I tre piccoli pirati” \nIl tappeto volante. Storie per ridere\, sorridere e ricominciare \nPer informazioni: biblioteca.bollate@csbno.net
URL:https://vivibollate.it/evento/il-tappeto-volante-storie-per-ridere-sorridere-e-ricominciare-copy-copy-2-copy-4/
LOCATION:Biblioteca Bollate centro\, Piazza C.A. Dalla Chiesa\, 30\, Bollate\, MI\, 20021
CATEGORIES:Bambini,Lettura
ATTACH;FMTTYPE=image/png:https://vivibollate.it/wp-content/uploads/2020/07/“Il-tappeto-volante”-Storie-per-ridere-sorridere-e-ricominciare-3.png
END:VEVENT
BEGIN:VEVENT
DTSTART;TZID=Europe/Rome:20200904T170000
DTEND;TZID=Europe/Rome:20200904T180000
DTSTAMP:20260422T003806
CREATED:20200716T073442Z
LAST-MODIFIED:20200716T095422Z
UID:978-1599238800-1599242400@vivibollate.it
SUMMARY:"Il Tappeto Volante" - Storie per ridere\, sorridere e ricominciare
DESCRIPTION:Dal 15 luglio riprendono in biblioteca le attività per bambine e bambini con le letture ad alta voce de “Il tappeto volante: storie per ridere\, sorridere e ricominciare”\, un ciclo di incontri per bambini dai 3 ai 7 anni che proseguirà sino alla metà di settembre.\nPer partecipare è necessario effettuare l’iscrizione inviando una mail a biblioteca.bollate@csbno.net: verranno così date tutte le informazioni per essere presenti in sicurezza. Ai piccoli partecipanti verrà richiesto di portare un tappetino o una coperta per sedersi con comodità nel giardino della biblioteca.\nL’ingresso è gratuito e consentito per piccoli gruppi\, nel rispetto delle norme anti-Covid ma\, qualora ci fossero numerose richieste\, le letture verranno replicate un’ora dopo. Verranno invece annullate in caso di maltempo. \nQuesto il calendario: \n  \nIMPREVISTI ALL’ORA DI CENA\n2 settembre ore 10\,00\n“Una tigre all’ora del tè”\, “La compagnia delle stelle” e “La notte in bianco dell’orso polare”\n4 settembre ore 17\,00\n“Fortunatamente”\, “Come? Cosa?” e “Dopo” \nTIPI STRANI\n9 settembre ore 10\,00\n“Dov’è la casa dell’aquila?”\, “Mezzacalzetta dove sei” e “I cinque malfatti”\n11 settembre ore 17\,00\n“Tram!”\, “Il disastrosissimo disastro di Harold Sniper Pott” e “I tre piccoli pirati” \nIl tappeto volante. Storie per ridere\, sorridere e ricominciare \nPer informazioni: biblioteca.bollate@csbno.net
URL:https://vivibollate.it/evento/il-tappeto-volante-storie-per-ridere-sorridere-e-ricominciare-copy-copy-2-copy-3/
LOCATION:Biblioteca Bollate centro\, Piazza C.A. Dalla Chiesa\, 30\, Bollate\, MI\, 20021
CATEGORIES:Bambini,Lettura
ATTACH;FMTTYPE=image/png:https://vivibollate.it/wp-content/uploads/2020/07/“Il-tappeto-volante”-Storie-per-ridere-sorridere-e-ricominciare-3.png
END:VEVENT
BEGIN:VEVENT
DTSTART;TZID=Europe/Rome:20200902T100000
DTEND;TZID=Europe/Rome:20200902T110000
DTSTAMP:20260422T003806
CREATED:20200716T073352Z
LAST-MODIFIED:20200716T095510Z
UID:977-1599040800-1599044400@vivibollate.it
SUMMARY:"Il Tappeto Volante" - Storie per ridere\, sorridere e ricominciare
DESCRIPTION:Dal 15 luglio riprendono in biblioteca le attività per bambine e bambini con le letture ad alta voce de “Il tappeto volante: storie per ridere\, sorridere e ricominciare”\, un ciclo di incontri per bambini dai 3 ai 7 anni che proseguirà sino alla metà di settembre.\nPer partecipare è necessario effettuare l’iscrizione inviando una mail a biblioteca.bollate@csbno.net: verranno così date tutte le informazioni per essere presenti in sicurezza. Ai piccoli partecipanti verrà richiesto di portare un tappetino o una coperta per sedersi con comodità nel giardino della biblioteca.\nL’ingresso è gratuito e consentito per piccoli gruppi\, nel rispetto delle norme anti-Covid ma\, qualora ci fossero numerose richieste\, le letture verranno replicate un’ora dopo. Verranno invece annullate in caso di maltempo. \nQuesto il calendario: \n  \nIMPREVISTI ALL’ORA DI CENA\n2 settembre ore 10\,00\n“Una tigre all’ora del tè”\, “La compagnia delle stelle” e “La notte in bianco dell’orso polare”\n4 settembre ore 17\,00\n“Fortunatamente”\, “Come? Cosa?” e “Dopo” \nTIPI STRANI\n9 settembre ore 10\,00\n“Dov’è la casa dell’aquila?”\, “Mezzacalzetta dove sei” e “I cinque malfatti”\n11 settembre ore 17\,00\n“Tram!”\, “Il disastrosissimo disastro di Harold Sniper Pott” e “I tre piccoli pirati” \nIl tappeto volante. Storie per ridere\, sorridere e ricominciare \nPer informazioni: biblioteca.bollate@csbno.net
URL:https://vivibollate.it/evento/il-tappeto-volante-storie-per-ridere-sorridere-e-ricominciare-copy-copy-2-copy-2/
LOCATION:Biblioteca Bollate centro\, Piazza C.A. Dalla Chiesa\, 30\, Bollate\, MI\, 20021
CATEGORIES:Bambini,Lettura
ATTACH;FMTTYPE=image/png:https://vivibollate.it/wp-content/uploads/2020/07/“Il-tappeto-volante”-Storie-per-ridere-sorridere-e-ricominciare-3.png
END:VEVENT
BEGIN:VEVENT
DTSTART;TZID=Europe/Rome:20200731T170000
DTEND;TZID=Europe/Rome:20200731T180000
DTSTAMP:20260422T003806
CREATED:20200716T073233Z
LAST-MODIFIED:20200716T095616Z
UID:976-1596214800-1596218400@vivibollate.it
SUMMARY:"Il Tappeto Volante" - Storie per ridere\, sorridere e ricominciare
DESCRIPTION:Dal 15 luglio riprendono in biblioteca le attività per bambine e bambini con le letture ad alta voce de “Il tappeto volante: storie per ridere\, sorridere e ricominciare”\, un ciclo di incontri per bambini dai 3 ai 7 anni che proseguirà sino alla metà di settembre.\nPer partecipare è necessario effettuare l’iscrizione inviando una mail a biblioteca.bollate@csbno.net: verranno così date tutte le informazioni per essere presenti in sicurezza. Ai piccoli partecipanti verrà richiesto di portare un tappetino o una coperta per sedersi con comodità nel giardino della biblioteca.\nL’ingresso è gratuito e consentito per piccoli gruppi\, nel rispetto delle norme anti-Covid ma\, qualora ci fossero numerose richieste\, le letture verranno replicate un’ora dopo. Verranno invece annullate in caso di maltempo. \nQuesto il calendario: \n  \nSORPRESE INASPETTATE\n29 luglio ore 10\,00\n“Tutto cambia”\, “I miei vicini” e “Cinque minuti di pace”\n31 luglio ore 17\,00\n“La cosa più importante”\, “Uno di voi” e “Gabbiano più gabbiano meno” \nIMPREVISTI ALL’ORA DI CENA\n2 settembre ore 10\,00\n“Una tigre all’ora del tè”\, “La compagnia delle stelle” e “La notte in bianco dell’orso polare”\n4 settembre ore 17\,00\n“Fortunatamente”\, “Come? Cosa?” e “Dopo” \nTIPI STRANI\n9 settembre ore 10\,00\n“Dov’è la casa dell’aquila?”\, “Mezzacalzetta dove sei” e “I cinque malfatti”\n11 settembre ore 17\,00\n“Tram!”\, “Il disastrosissimo disastro di Harold Sniper Pott” e “I tre piccoli pirati” \nIl tappeto volante. Storie per ridere\, sorridere e ricominciare \nPer informazioni: biblioteca.bollate@csbno.net
URL:https://vivibollate.it/evento/il-tappeto-volante-storie-per-ridere-sorridere-e-ricominciare-copy-copy-2-copy/
LOCATION:Biblioteca Bollate centro\, Piazza C.A. Dalla Chiesa\, 30\, Bollate\, MI\, 20021
CATEGORIES:Bambini,Lettura
ATTACH;FMTTYPE=image/png:https://vivibollate.it/wp-content/uploads/2020/07/“Il-tappeto-volante”-Storie-per-ridere-sorridere-e-ricominciare-3.png
END:VEVENT
BEGIN:VEVENT
DTSTART;TZID=Europe/Rome:20200729T100000
DTEND;TZID=Europe/Rome:20200729T110000
DTSTAMP:20260422T003806
CREATED:20200716T073008Z
LAST-MODIFIED:20200716T095713Z
UID:972-1596016800-1596020400@vivibollate.it
SUMMARY:"Il Tappeto Volante" - Storie per ridere\, sorridere e ricominciare
DESCRIPTION:Dal 15 luglio riprendono in biblioteca le attività per bambine e bambini con le letture ad alta voce de “Il tappeto volante: storie per ridere\, sorridere e ricominciare”\, un ciclo di incontri per bambini dai 3 ai 7 anni che proseguirà sino alla metà di settembre.\nPer partecipare è necessario effettuare l’iscrizione inviando una mail a biblioteca.bollate@csbno.net: verranno così date tutte le informazioni per essere presenti in sicurezza. Ai piccoli partecipanti verrà richiesto di portare un tappetino o una coperta per sedersi con comodità nel giardino della biblioteca.\nL’ingresso è gratuito e consentito per piccoli gruppi\, nel rispetto delle norme anti-Covid ma\, qualora ci fossero numerose richieste\, le letture verranno replicate un’ora dopo. Verranno invece annullate in caso di maltempo. \nQuesto il calendario: \n  \nSORPRESE INASPETTATE\n29 luglio ore 10\,00\n“Tutto cambia”\, “I miei vicini” e “Cinque minuti di pace”\n31 luglio ore 17\,00\n“La cosa più importante”\, “Uno di voi” e “Gabbiano più gabbiano meno” \nIMPREVISTI ALL’ORA DI CENA\n2 settembre ore 10\,00\n“Una tigre all’ora del tè”\, “La compagnia delle stelle” e “La notte in bianco dell’orso polare”\n4 settembre ore 17\,00\n“Fortunatamente”\, “Come? Cosa?” e “Dopo” \nTIPI STRANI\n9 settembre ore 10\,00\n“Dov’è la casa dell’aquila?”\, “Mezzacalzetta dove sei” e “I cinque malfatti”\n11 settembre ore 17\,00\n“Tram!”\, “Il disastrosissimo disastro di Harold Sniper Pott” e “I tre piccoli pirati” \nIl tappeto volante. Storie per ridere\, sorridere e ricominciare \nPer informazioni: biblioteca.bollate@csbno.net
URL:https://vivibollate.it/evento/il-tappeto-volante-storie-per-ridere-sorridere-e-ricominciare-copy-copy-copy/
LOCATION:Biblioteca Bollate centro\, Piazza C.A. Dalla Chiesa\, 30\, Bollate\, MI\, 20021
CATEGORIES:Bambini,Lettura
ATTACH;FMTTYPE=image/png:https://vivibollate.it/wp-content/uploads/2020/07/“Il-tappeto-volante”-Storie-per-ridere-sorridere-e-ricominciare-3.png
END:VEVENT
BEGIN:VEVENT
DTSTART;TZID=Europe/Rome:20200724T170000
DTEND;TZID=Europe/Rome:20200724T180000
DTSTAMP:20260422T003806
CREATED:20200716T072526Z
LAST-MODIFIED:20200716T095810Z
UID:967-1595610000-1595613600@vivibollate.it
SUMMARY:"Il Tappeto Volante" - Storie per ridere\, sorridere e ricominciare
DESCRIPTION:Dal 15 luglio riprendono in biblioteca le attività per bambine e bambini con le letture ad alta voce de “Il tappeto volante: storie per ridere\, sorridere e ricominciare”\, un ciclo di incontri per bambini dai 3 ai 7 anni che proseguirà sino alla metà di settembre.\nPer partecipare è necessario effettuare l’iscrizione inviando una mail a biblioteca.bollate@csbno.net: verranno così date tutte le informazioni per essere presenti in sicurezza. Ai piccoli partecipanti verrà richiesto di portare un tappetino o una coperta per sedersi con comodità nel giardino della biblioteca.\nL’ingresso è gratuito e consentito per piccoli gruppi\, nel rispetto delle norme anti-Covid ma\, qualora ci fossero numerose richieste\, le letture verranno replicate un’ora dopo. Verranno invece annullate in caso di maltempo. \nQuesto il calendario: \n  \nTENERI E FURBETTI\n22 luglio ore 10\,00\n“Shh! Abbiamo un piano”\, “Non è colpa mia!” e “Bee Bee la pecora astuta”\n24 luglio ore 17\,00\n“Le cose che passano”\, “Grande orso abbraccia tutti” e “Il gigante salterino” \nSORPRESE INASPETTATE\n29 luglio ore 10\,00\n“Tutto cambia”\, “I miei vicini” e “Cinque minuti di pace”\n31 luglio ore 17\,00\n“La cosa più importante”\, “Uno di voi” e “Gabbiano più gabbiano meno” \nIMPREVISTI ALL’ORA DI CENA\n2 settembre ore 10\,00\n“Una tigre all’ora del tè”\, “La compagnia delle stelle” e “La notte in bianco dell’orso polare”\n4 settembre ore 17\,00\n“Fortunatamente”\, “Come? Cosa?” e “Dopo” \nTIPI STRANI\n9 settembre ore 10\,00\n“Dov’è la casa dell’aquila?”\, “Mezzacalzetta dove sei” e “I cinque malfatti”\n11 settembre ore 17\,00\n“Tram!”\, “Il disastrosissimo disastro di Harold Sniper Pott” e “I tre piccoli pirati” \nIl tappeto volante. Storie per ridere\, sorridere e ricominciare \nPer informazioni: biblioteca.bollate@csbno.net
URL:https://vivibollate.it/evento/il-tappeto-volante-storie-per-ridere-sorridere-e-ricominciare-copy/
LOCATION:Biblioteca Bollate centro\, Piazza C.A. Dalla Chiesa\, 30\, Bollate\, MI\, 20021
CATEGORIES:Bambini,Lettura
ATTACH;FMTTYPE=image/png:https://vivibollate.it/wp-content/uploads/2020/07/“Il-tappeto-volante”-Storie-per-ridere-sorridere-e-ricominciare-3.png
END:VEVENT
BEGIN:VEVENT
DTSTART;TZID=Europe/Rome:20200722T100000
DTEND;TZID=Europe/Rome:20200722T110000
DTSTAMP:20260422T003806
CREATED:20200716T072734Z
LAST-MODIFIED:20200716T095904Z
UID:969-1595412000-1595415600@vivibollate.it
SUMMARY:"Il Tappeto Volante" - Storie per ridere\, sorridere e ricominciare
DESCRIPTION:Dal 15 luglio riprendono in biblioteca le attività per bambine e bambini con le letture ad alta voce de “Il tappeto volante: storie per ridere\, sorridere e ricominciare”\, un ciclo di incontri per bambini dai 3 ai 7 anni che proseguirà sino alla metà di settembre.\nPer partecipare è necessario effettuare l’iscrizione inviando una mail a biblioteca.bollate@csbno.net: verranno così date tutte le informazioni per essere presenti in sicurezza. Ai piccoli partecipanti verrà richiesto di portare un tappetino o una coperta per sedersi con comodità nel giardino della biblioteca.\nL’ingresso è gratuito e consentito per piccoli gruppi\, nel rispetto delle norme anti-Covid ma\, qualora ci fossero numerose richieste\, le letture verranno replicate un’ora dopo. Verranno invece annullate in caso di maltempo. \nQuesto il calendario: \n  \nTENERI E FURBETTI\n22 luglio ore 10\,00\n“Shh! Abbiamo un piano”\, “Non è colpa mia!” e “Bee Bee la pecora astuta”\n24 luglio ore 17\,00\n“Le cose che passano”\, “Grande orso abbraccia tutti” e “Il gigante salterino” \nSORPRESE INASPETTATE\n29 luglio ore 10\,00\n“Tutto cambia”\, “I miei vicini” e “Cinque minuti di pace”\n31 luglio ore 17\,00\n“La cosa più importante”\, “Uno di voi” e “Gabbiano più gabbiano meno” \nIMPREVISTI ALL’ORA DI CENA\n2 settembre ore 10\,00\n“Una tigre all’ora del tè”\, “La compagnia delle stelle” e “La notte in bianco dell’orso polare”\n4 settembre ore 17\,00\n“Fortunatamente”\, “Come? Cosa?” e “Dopo” \nTIPI STRANI\n9 settembre ore 10\,00\n“Dov’è la casa dell’aquila?”\, “Mezzacalzetta dove sei” e “I cinque malfatti”\n11 settembre ore 17\,00\n“Tram!”\, “Il disastrosissimo disastro di Harold Sniper Pott” e “I tre piccoli pirati” \nIl tappeto volante. Storie per ridere\, sorridere e ricominciare \nPer informazioni: biblioteca.bollate@csbno.net
URL:https://vivibollate.it/evento/il-tappeto-volante-storie-per-ridere-sorridere-e-ricominciare-copy-copy/
LOCATION:Biblioteca Bollate centro\, Piazza C.A. Dalla Chiesa\, 30\, Bollate\, MI\, 20021
CATEGORIES:Bambini,Lettura
ATTACH;FMTTYPE=image/png:https://vivibollate.it/wp-content/uploads/2020/07/“Il-tappeto-volante”-Storie-per-ridere-sorridere-e-ricominciare-3.png
END:VEVENT
BEGIN:VEVENT
DTSTART;TZID=Europe/Rome:20200717T170000
DTEND;TZID=Europe/Rome:20200717T180000
DTSTAMP:20260422T003806
CREATED:20200716T072359Z
LAST-MODIFIED:20200716T100011Z
UID:964-1595005200-1595008800@vivibollate.it
SUMMARY:"Il Tappeto Volante" - Storie per ridere\, sorridere e ricominciare
DESCRIPTION:Dal 15 luglio riprendono in biblioteca le attività per bambine e bambini con le letture ad alta voce de “Il tappeto volante: storie per ridere\, sorridere e ricominciare”\, un ciclo di incontri per bambini dai 3 ai 7 anni che proseguirà sino alla metà di settembre.\nPer partecipare è necessario effettuare l’iscrizione inviando una mail a biblioteca.bollate@csbno.net: verranno così date tutte le informazioni per essere presenti in sicurezza. Ai piccoli partecipanti verrà richiesto di portare un tappetino o una coperta per sedersi con comodità nel giardino della biblioteca.\nL’ingresso è gratuito e consentito per piccoli gruppi\, nel rispetto delle norme anti-Covid ma\, qualora ci fossero numerose richieste\, le letture verranno replicate un’ora dopo. Verranno invece annullate in caso di maltempo. \nQuesto il calendario: \nMUSICA E SUONI\n15 luglio ore 10\,00\n“Oh un libro che fa suoni!”\, “L’uomo col violino” e “Bobo Jazz”\n17 luglio ore 17\,00\n“Con le orecchie Di lupo”\, “La musica più bella del mondo” e “Giù in cantina” \nTENERI E FURBETTI\n22 luglio ore 10\,00\n“Shh! Abbiamo un piano”\, “Non è colpa mia!” e “Bee Bee la pecora astuta”\n24 luglio ore 17\,00\n“Le cose che passano”\, “Grande orso abbraccia tutti” e “Il gigante salterino” \nSORPRESE INASPETTATE\n29 luglio ore 10\,00\n“Tutto cambia”\, “I miei vicini” e “Cinque minuti di pace”\n31 luglio ore 17\,00\n“La cosa più importante”\, “Uno di voi” e “Gabbiano più gabbiano meno” \nIMPREVISTI ALL’ORA DI CENA\n2 settembre ore 10\,00\n“Una tigre all’ora del tè”\, “La compagnia delle stelle” e “La notte in bianco dell’orso polare”\n4 settembre ore 17\,00\n“Fortunatamente”\, “Come? Cosa?” e “Dopo” \nTIPI STRANI\n9 settembre ore 10\,00\n“Dov’è la casa dell’aquila?”\, “Mezzacalzetta dove sei” e “I cinque malfatti”\n11 settembre ore 17\,00\n“Tram!”\, “Il disastrosissimo disastro di Harold Sniper Pott” e “I tre piccoli pirati” \nIl tappeto volante. Storie per ridere\, sorridere e ricominciare \nPer informazioni: biblioteca.bollate@csbno.net
URL:https://vivibollate.it/evento/il-tappeto-volante-storie-per-ridere-sorridere-e-ricominciare/
LOCATION:Biblioteca Bollate centro\, Piazza C.A. Dalla Chiesa\, 30\, Bollate\, MI\, 20021
CATEGORIES:Bambini,Lettura
ATTACH;FMTTYPE=image/png:https://vivibollate.it/wp-content/uploads/2020/07/“Il-tappeto-volante”-Storie-per-ridere-sorridere-e-ricominciare-3.png
END:VEVENT
BEGIN:VEVENT
DTSTART;TZID=Europe/Rome:20200523T103000
DTEND;TZID=Europe/Rome:20200523T113000
DTSTAMP:20260422T003806
CREATED:20200213T143755Z
LAST-MODIFIED:20200213T150023Z
UID:770-1590229800-1590233400@vivibollate.it
SUMMARY:IL TAPPETO VOLANTE
DESCRIPTION:Incontri Nati Per Leggere per bebè con mamma e papà. \n“Storie piccine picciò”\nDai 3 ai 12 mesi. \nIngresso libero senza prenotazioni.
URL:https://vivibollate.it/evento/il-tappeto-volante-2020-05-23/
LOCATION:Biblioteca Bollate centro\, Piazza C.A. Dalla Chiesa\, 30\, Bollate\, MI\, 20021
CATEGORIES:Bambini,Lettura
ATTACH;FMTTYPE=image/jpeg:https://vivibollate.it/wp-content/uploads/2020/02/MILLE-E-UNA-STORIA.jpg
END:VEVENT
BEGIN:VEVENT
DTSTART;TZID=Europe/Rome:20200516T103000
DTEND;TZID=Europe/Rome:20200516T113000
DTSTAMP:20260422T003806
CREATED:20200213T150901Z
LAST-MODIFIED:20200213T150902Z
UID:796-1589625000-1589628600@vivibollate.it
SUMMARY:LA LANTERNA MAGICA
DESCRIPTION:“Bobo Jazz” e “L’uomo con il violino”\nGli adulti corrono sempre\, invece ai bambini piace fermarsi ad ascoltare. \nDai 4 anni. \nIngresso libero senza prenotazione
URL:https://vivibollate.it/evento/la-lanterna-magica-4/
LOCATION:Biblioteca Bollate centro\, Piazza C.A. Dalla Chiesa\, 30\, Bollate\, MI\, 20021
CATEGORIES:Bambini,Lettura,musica
ATTACH;FMTTYPE=image/jpeg:https://vivibollate.it/wp-content/uploads/2020/02/MILLE-E-UNA-STORIA.jpg
END:VEVENT
BEGIN:VEVENT
DTSTART;TZID=Europe/Rome:20200508T170000
DTEND;TZID=Europe/Rome:20200508T180000
DTSTAMP:20260422T003806
CREATED:20200213T145959Z
LAST-MODIFIED:20200309T134513Z
UID:786-1588957200-1588960800@vivibollate.it
SUMMARY:APRITI SESAMO
DESCRIPTION:“Dove si nasconde il kamishibai?”\nApriti Sesamo e si aprirà la magia delle fiabe. \nDai 3 anni. \nIngresso libero senza prenotazioni.
URL:https://vivibollate.it/evento/apriti-sesamo-2020-05-08/
LOCATION:Biblioteca Bollate centro\, Piazza C.A. Dalla Chiesa\, 30\, Bollate\, MI\, 20021
CATEGORIES:Bambini,Lettura
ATTACH;FMTTYPE=image/jpeg:https://vivibollate.it/wp-content/uploads/2020/02/MILLE-E-UNA-STORIA.jpg
END:VEVENT
BEGIN:VEVENT
DTSTART;TZID=Europe/Rome:20200417T170000
DTEND;TZID=Europe/Rome:20200417T180000
DTSTAMP:20260422T003806
CREATED:20200213T145959Z
LAST-MODIFIED:20200309T134512Z
UID:785-1587142800-1587146400@vivibollate.it
SUMMARY:APRITI SESAMO
DESCRIPTION:“Dove si nasconde il kamishibai?”\nApriti Sesamo e si aprirà la magia delle fiabe. \nDai 3 anni. \nIngresso libero senza prenotazioni.
URL:https://vivibollate.it/evento/apriti-sesamo-2020-04-17/
LOCATION:Biblioteca Bollate centro\, Piazza C.A. Dalla Chiesa\, 30\, Bollate\, MI\, 20021
CATEGORIES:Bambini,Lettura
ATTACH;FMTTYPE=image/jpeg:https://vivibollate.it/wp-content/uploads/2020/02/MILLE-E-UNA-STORIA.jpg
END:VEVENT
BEGIN:VEVENT
DTSTART;TZID=Europe/Rome:20200404T103000
DTEND;TZID=Europe/Rome:20200404T113000
DTSTAMP:20260422T003806
CREATED:20200213T150618Z
LAST-MODIFIED:20200305T082250Z
UID:793-1585996200-1585999800@vivibollate.it
SUMMARY:LA LANTERNA MAGICA
DESCRIPTION:“Con le orecchie di lupo”\nStorie da ascoltare e piccolo concerto domestico \nPorta coperchi\, barattoli\, posate e tutto quello che può fare musica. \nDai 4 anni. \nIngresso libero senza prenotazione
URL:https://vivibollate.it/evento/la-lanterna-magica-3/
LOCATION:Biblioteca Bollate centro\, Piazza C.A. Dalla Chiesa\, 30\, Bollate\, MI\, 20021
CATEGORIES:Bambini,Lettura,musica
ATTACH;FMTTYPE=image/jpeg:https://vivibollate.it/wp-content/uploads/2020/02/MILLE-E-UNA-STORIA.jpg
END:VEVENT
BEGIN:VEVENT
DTSTART;TZID=Europe/Rome:20200328T103000
DTEND;TZID=Europe/Rome:20200328T113000
DTSTAMP:20260422T003806
CREATED:20200213T143755Z
LAST-MODIFIED:20200309T134357Z
UID:769-1585391400-1585395000@vivibollate.it
SUMMARY:IL TAPPETO VOLANTE
DESCRIPTION:AVVISO IMPORTANTE\n In adempimento alle ordinanze emesse in data 23 febbraio 2020 dal Ministero della Salute e dal Comune di Bollate\, si comunica che tutte le iniziative e le manifestazioni culturali sono sospese fino a nuova comunicazione\n  \nIncontri Nati Per Leggere per bebè con mamma e papà. \n“Storie piccine picciò”\nDai 3 ai 12 mesi. \nIngresso libero senza prenotazioni.
URL:https://vivibollate.it/evento/il-tappeto-volante-2020-03-28/
LOCATION:Biblioteca Bollate centro\, Piazza C.A. Dalla Chiesa\, 30\, Bollate\, MI\, 20021
CATEGORIES:Bambini,Lettura
ATTACH;FMTTYPE=image/jpeg:https://vivibollate.it/wp-content/uploads/2020/02/MILLE-E-UNA-STORIA.jpg
END:VEVENT
BEGIN:VEVENT
DTSTART;TZID=Europe/Rome:20200320T170000
DTEND;TZID=Europe/Rome:20200320T180000
DTSTAMP:20260422T003806
CREATED:20200213T145959Z
LAST-MODIFIED:20200309T134530Z
UID:783-1584723600-1584727200@vivibollate.it
SUMMARY:APRITI SESAMO
DESCRIPTION:AVVISO IMPORTANTE\n In adempimento alle ordinanze emesse in data 23 febbraio 2020 dal Ministero della Salute e dal Comune di Bollate\, si comunica che tutte le iniziative e le manifestazioni culturali sono sospese fino a nuova comunicazione\n\n“Dove si nasconde il kamishibai?”\nApriti Sesamo e si aprirà la magia delle fiabe. \nDai 3 anni. \nIngresso libero senza prenotazioni.
URL:https://vivibollate.it/evento/apriti-sesamo/
LOCATION:Biblioteca Bollate centro\, Piazza C.A. Dalla Chiesa\, 30\, Bollate\, MI\, 20021
CATEGORIES:Bambini,Lettura
ATTACH;FMTTYPE=image/jpeg:https://vivibollate.it/wp-content/uploads/2020/02/MILLE-E-UNA-STORIA.jpg
END:VEVENT
BEGIN:VEVENT
DTSTART;TZID=Europe/Rome:20200314T103000
DTEND;TZID=Europe/Rome:20200314T113000
DTSTAMP:20260422T003806
CREATED:20200213T145010Z
LAST-MODIFIED:20200309T134644Z
UID:779-1584181800-1584185400@vivibollate.it
SUMMARY:LA LANTERNA MAGICA
DESCRIPTION:AVVISO IMPORTANTE \nA seguito dell’emergenza  sanitaria attualmente in corso\, si comunica che tutti gli appuntamenti culturali sono annullati. \n“I musicanti di Brema”\nFiaba classica raccontata dai bibliotecari e musicata da Cecilia. \nDai 4 anni. \nIngresso libero senza prenotazioni.
URL:https://vivibollate.it/evento/la-lanterna-magica-2/
LOCATION:Biblioteca Bollate centro\, Piazza C.A. Dalla Chiesa\, 30\, Bollate\, MI\, 20021
CATEGORIES:Bambini,Lettura
ATTACH;FMTTYPE=image/jpeg:https://vivibollate.it/wp-content/uploads/2020/02/MILLE-E-UNA-STORIA.jpg
END:VEVENT
BEGIN:VEVENT
DTSTART;TZID=Europe/Rome:20200229T103000
DTEND;TZID=Europe/Rome:20200229T113000
DTSTAMP:20260422T003806
CREATED:20200213T144616Z
LAST-MODIFIED:20200224T131652Z
UID:774-1582972200-1582975800@vivibollate.it
SUMMARY:LA LANTERNA MAGICA
DESCRIPTION:AVVISO IMPORTANTE\n In adempimento alle ordinanze emesse in data 23 febbraio 2020 dal Ministero della Salute e dal Comune di Bollate\, si comunica che tutte le iniziative e le manifestazioni culturali sono sospese fino a nuova comunicazione\n\n“Giacomino e il fagiolo magico”\nPiantiamo insieme i bulbi nell’orto e ascoltiamo la storia dei magici fagioli. \nDai 4 anni.
URL:https://vivibollate.it/evento/la-lanterna-magica/
LOCATION:Biblioteca Bollate centro\, Piazza C.A. Dalla Chiesa\, 30\, Bollate\, MI\, 20021
CATEGORIES:Bambini,Lettura
ATTACH;FMTTYPE=image/jpeg:https://vivibollate.it/wp-content/uploads/2020/02/MILLE-E-UNA-STORIA.jpg
END:VEVENT
BEGIN:VEVENT
DTSTART;TZID=Europe/Rome:20200227T160000
DTEND;TZID=Europe/Rome:20200227T180000
DTSTAMP:20260422T003806
CREATED:20200214T133240Z
LAST-MODIFIED:20200214T133240Z
UID:803-1582819200-1582826400@vivibollate.it
SUMMARY:RITROVARCI - Incontri per una terza età attiva
DESCRIPTION:LETTURE A VOCE ALTA: IL RAPPORTO  FRA PADRI E FIGLI\n\nLe bibliotecarie indagano questo legame familiare con le parole e i protagonisti dei grandi romanzi.\n\n“Ritrovarci” è uno spazio di incontro rivolto alla terza età\, a chi vuole condividere la sua esperienza\, il suo saper fare\, e a chi vuole passare del tempo insieme imparando.
URL:https://vivibollate.it/evento/ritrovarci-incontri-per-una-terza-eta-attiva/
LOCATION:Biblioteca Bollate centro\, Piazza C.A. Dalla Chiesa\, 30\, Bollate\, MI\, 20021
CATEGORIES:Lettura
ATTACH;FMTTYPE=image/jpeg:https://vivibollate.it/wp-content/uploads/2020/02/Image-1-scaled.jpg
END:VEVENT
BEGIN:VEVENT
DTSTART;TZID=Europe/Rome:20200222T103000
DTEND;TZID=Europe/Rome:20200222T113000
DTSTAMP:20260422T003806
CREATED:20200213T143755Z
LAST-MODIFIED:20200213T150023Z
UID:766-1582367400-1582371000@vivibollate.it
SUMMARY:IL TAPPETO VOLANTE
DESCRIPTION:Incontri Nati Per Leggere per bebè con mamma e papà. \n“Storie piccine picciò”\nDai 3 ai 12 mesi. \nIngresso libero senza prenotazioni.
URL:https://vivibollate.it/evento/il-tappeto-volante/
LOCATION:Biblioteca Bollate centro\, Piazza C.A. Dalla Chiesa\, 30\, Bollate\, MI\, 20021
CATEGORIES:Bambini,Lettura
ATTACH;FMTTYPE=image/jpeg:https://vivibollate.it/wp-content/uploads/2020/02/MILLE-E-UNA-STORIA.jpg
END:VEVENT
END:VCALENDAR