BEGIN:VCALENDAR
VERSION:2.0
PRODID:-//ViviBollate - ECPv6.15.13//NONSGML v1.0//EN
CALSCALE:GREGORIAN
METHOD:PUBLISH
X-ORIGINAL-URL:https://vivibollate.it
X-WR-CALDESC:Eventi per ViviBollate
REFRESH-INTERVAL;VALUE=DURATION:PT1H
X-Robots-Tag:noindex
X-PUBLISHED-TTL:PT1H
BEGIN:VTIMEZONE
TZID:Europe/Rome
BEGIN:DAYLIGHT
TZOFFSETFROM:+0100
TZOFFSETTO:+0200
TZNAME:CEST
DTSTART:20240331T010000
END:DAYLIGHT
BEGIN:STANDARD
TZOFFSETFROM:+0200
TZOFFSETTO:+0100
TZNAME:CET
DTSTART:20241027T010000
END:STANDARD
BEGIN:DAYLIGHT
TZOFFSETFROM:+0100
TZOFFSETTO:+0200
TZNAME:CEST
DTSTART:20250330T010000
END:DAYLIGHT
BEGIN:STANDARD
TZOFFSETFROM:+0200
TZOFFSETTO:+0100
TZNAME:CET
DTSTART:20251026T010000
END:STANDARD
BEGIN:DAYLIGHT
TZOFFSETFROM:+0100
TZOFFSETTO:+0200
TZNAME:CEST
DTSTART:20260329T010000
END:DAYLIGHT
BEGIN:STANDARD
TZOFFSETFROM:+0200
TZOFFSETTO:+0100
TZNAME:CET
DTSTART:20261025T010000
END:STANDARD
END:VTIMEZONE
BEGIN:VEVENT
DTSTART;TZID=Europe/Rome:20250403T103000
DTEND;TZID=Europe/Rome:20250403T103000
DTSTAMP:20260423T000333
CREATED:20250320T120604Z
LAST-MODIFIED:20250331T064056Z
UID:3197-1743676200-1743676200@vivibollate.it
SUMMARY:NATI PER LEGGERE
DESCRIPTION:Giovedì 3 aprile\, ore 10.30 \nPer capire e comprendere come leggere ai piccolissimi! \nPer bimbi tra i 3 e 12 mesi e i loro genitori! \n  \nIngresso libero con prenotazione. Per prenotare Scrivere or telefonare a – Maria Piuri\, Consultorio Familiare\, 02994305039 o mpiuri@asst-rhodense.it
URL:https://vivibollate.it/evento/nati-per-leggere-2/
LOCATION:Biblioteca Bollate centro\, Piazza C.A. Dalla Chiesa\, 30\, Bollate\, MI\, 20021
CATEGORIES:Bambini,Biblioteca,Lettura
ATTACH;FMTTYPE=image/png:https://vivibollate.it/wp-content/uploads/2025/03/3-aprile.png
ORGANIZER;CN="Assessorato alla Cultura e Pace":MAILTO:cultura@comune.bollate.mi.it
END:VEVENT
BEGIN:VEVENT
DTSTART;VALUE=DATE:20250512
DTEND;VALUE=DATE:20250516
DTSTAMP:20260423T000333
CREATED:20250512T064239Z
LAST-MODIFIED:20250512T064239Z
UID:3442-1747008000-1747353599@vivibollate.it
SUMMARY:GRUPPO DI LETTURA
DESCRIPTION:Lunedì 12 maggio\, ore 14.30 – in presenza \nGiovedì 15 maggio\, ore 20.45 – solo in line\nPer ricevere il collegamento\, compilare il seguente modulo:\nhttps://forms.gle/wBvNy1pYYo4zh5KHA\n \n  \nCosa accade nella mente di uno scrittore quanto decide di vivere nella casa che è stato lo studio del padre\, famoso psicanalista junghiano? \nFantasmi\, ricordi ed improbabili personaggi faranno la loro apparizione. \nDiscussione del romanzo di Emanuele Trevi\, dedicato alla figura paterna\, lo psicanalista romano Mario Trevi\, pioniere della psicanalisi ad indirizzo junghiano in Italia. A partire dalla casa paterna\, ricevuta in eredità. \n  \n  \n  \nIngresso libero
URL:https://vivibollate.it/evento/gruppo-di-lettura-2/
LOCATION:Biblioteca Bollate centro\, Piazza C.A. Dalla Chiesa\, 30\, Bollate\, MI\, 20021
CATEGORIES:Adulti,Biblioteca,gruppo di lettura,Lettura
ATTACH;FMTTYPE=image/png:https://vivibollate.it/wp-content/uploads/2025/04/2025_maggio_gl_post.png
ORGANIZER;CN="Assessorato alla Cultura e Pace":MAILTO:cultura@comune.bollate.mi.it
END:VEVENT
BEGIN:VEVENT
DTSTART;TZID=Europe/Rome:20250515T150000
DTEND;TZID=Europe/Rome:20250515T150000
DTSTAMP:20260423T000333
CREATED:20250512T065043Z
LAST-MODIFIED:20250512T065043Z
UID:3445-1747321200-1747321200@vivibollate.it
SUMMARY:LETTURA AD ALTA VOCE
DESCRIPTION:Giovedì 15 maggio\, ore 15.00 \n  \nIl romanzo scelto è “Stupori e tremori” di Amélie Nothomb – Voland  \n“Il signor Haneda era il capo del signor Ornochi\, che era il capo del signor Saito\, che era il capo della signorina Mori\, che era il mio capo. E io non ero il capo di nessuno.” Il fascino della lontana cultura nipponica emerge preponente in questo esilarante e spietato romanzo di ispirazione autobiografica\, che segue la parabola discendente di una giovane donna occidentale all’interno di una multinazionale giapponese. Animata dalle migliori intenzioni ma ignara delle regole\, Amélie inanella gaffes su gaffes e resiste ostinata alla progressiva retrocessione che la porterà a scendere fino all’ultimo gradino della scala gerarchica. \n  \n  \nIngresso libero
URL:https://vivibollate.it/evento/lettura-ad-alta-voce/
LOCATION:Biblioteca Bollate centro\, Piazza C.A. Dalla Chiesa\, 30\, Bollate\, MI\, 20021
CATEGORIES:Adulti,Biblioteca,Lettura
ATTACH;FMTTYPE=image/png:https://vivibollate.it/wp-content/uploads/2025/04/2024_05_15_letturaaltavoce_storia.png
ORGANIZER;CN="Assessorato alla Cultura e Pace":MAILTO:cultura@comune.bollate.mi.it
END:VEVENT
BEGIN:VEVENT
DTSTART;TZID=Europe/Rome:20250516T173000
DTEND;TZID=Europe/Rome:20250516T173000
DTSTAMP:20260423T000333
CREATED:20250513T061547Z
LAST-MODIFIED:20250513T061547Z
UID:3449-1747416600-1747416600@vivibollate.it
SUMMARY:"UNA LIEVE BREZZA SUL VISO"
DESCRIPTION:Venerdì 16 maggio\, ore 17.30 – “Una lieve brezza sul viso”\, Giovanna Guiso \n  \nE’ 15 agosto 1903 quando Anna Bernasconi partorisce Maria e suo fratello Leopoldo a Velate. Maria è una bambina dolce e pazienta e mostra sin da piccolo un grande interesse nel confezionare abiti. Il romanzo segue le vicende della famiglia e della protagonista Maria\, della sua nascita all’ingresso nella vita adulta. L’autrice al suo primo romanzo ci dona una storia corale in cui ruotano\, si sfiorano e legano tante vite. \n  \nGiovanna Guiso – giornalista\, scrive per alcune testate italiane. E’ autrice del manuale “La famiglia in moto. Como trasportare i bambini in moto in sicurezza”\, premio alla virtù civica “Panettone d’Oro” della Città metropolitana di Milano\, 2018. \n  \n  \nIngresso libero  \n  \n 
URL:https://vivibollate.it/evento/una-lieve-brezza-sul-viso/
LOCATION:Biblioteca Bollate centro\, Piazza C.A. Dalla Chiesa\, 30\, Bollate\, MI\, 20021
CATEGORIES:Adulti,Biblioteca,Lettura
ATTACH;FMTTYPE=image/png:https://vivibollate.it/wp-content/uploads/2025/04/2025_-presentazione-Guiso_Una-lieve-brezza.png
ORGANIZER;CN="Assessorato alla Cultura e Pace":MAILTO:cultura@comune.bollate.mi.it
END:VEVENT
BEGIN:VEVENT
DTSTART;TZID=Europe/Rome:20250517T160000
DTEND;TZID=Europe/Rome:20250517T160000
DTSTAMP:20260423T000333
CREATED:20250514T064516Z
LAST-MODIFIED:20250514T064516Z
UID:3452-1747497600-1747497600@vivibollate.it
SUMMARY:IL MIO NOME E' DANTE ALIGHIERI
DESCRIPTION:Sabato 17 maggio\, ore 16.00 \n  \n  \n“Come si può scrivere un’autobiografia non di se stessi ma di un’altra persona? Al massimo\, si potrebbe scrivere una biografia. ma questo può pensarlo solo chi è rigidamente ancorato alla logica secondo la quale “tu sei tu e non puoi esser un altro”. E’ vero\, non è possibile essere “gli altri” ma possiamo sforzarci di entrare nei loro pensieri e nel loro cuore\, sia parlando di chi è presente\, sia di chi non c’è più: ciò può avvenire solo attraverso un’alchimia magica\, ovvero l’amore. Dante ha amato e odiato in ugual misura ma io\, soprattutto\, ho amato e amo Dante per un unico\, fondamentale motivo: non conosco esempi più elevati di carità intellettuale. Dante non ha mai voluto tenere per sé ciò che conosceva e ciò che aveva capito. Dante aveva compreso che distribuire la propria sapienza arricchisce chi ne fruisce e non depaupera chi la dona. Questo grande amore per gli uomini – che talvolta si esprime\, paradossalmente\, attraverso l’odio – ha suscitato il mio amore per l’Alighieri: amandolo così profondamente\, ho pensato che non fosse un esperimento impossibile far sì che io\, nato 694 anni dopo\, potessi far parlare lui attraverso me.” \n  \n  \n  \nIngresso libero
URL:https://vivibollate.it/evento/il-mio-nome-e-dante-alighieri/
LOCATION:Biblioteca Bollate centro\, Piazza C.A. Dalla Chiesa\, 30\, Bollate\, MI\, 20021
CATEGORIES:Adulti,Biblioteca,Lettura
ATTACH;FMTTYPE=image/jpeg:https://vivibollate.it/wp-content/uploads/2025/04/Screenshot_14-5-2025_84432_m.media-amazon.com_.jpeg
ORGANIZER;CN="Assessorato alla Cultura e Pace":MAILTO:cultura@comune.bollate.mi.it
END:VEVENT
BEGIN:VEVENT
DTSTART;TZID=Europe/Rome:20250517T163000
DTEND;TZID=Europe/Rome:20250517T163000
DTSTAMP:20260423T000333
CREATED:20250514T064212Z
LAST-MODIFIED:20250514T064212Z
UID:3456-1747499400-1747499400@vivibollate.it
SUMMARY:BIBLIOFILO
DESCRIPTION:Sabato 17 maggio\, ore 16.30  \n  \nPortare il proprio materiale e strumenti di lavoro per trascorrere del tempo insieme lavorando a maglia e uncinetto! \n  \n  \nIngresso libero 
URL:https://vivibollate.it/evento/bibliofilo/
LOCATION:Biblioteca Bollate centro\, Piazza C.A. Dalla Chiesa\, 30\, Bollate\, MI\, 20021
CATEGORIES:Biblioteca,Lettura
ATTACH;FMTTYPE=image/png:https://vivibollate.it/wp-content/uploads/2025/04/2025_05_17__bibliofilo_post.png
ORGANIZER;CN="Assessorato alla Cultura e Pace":MAILTO:cultura@comune.bollate.mi.it
END:VEVENT
BEGIN:VEVENT
DTSTART;TZID=Europe/Rome:20250607T163000
DTEND;TZID=Europe/Rome:20250607T163000
DTSTAMP:20260423T000333
CREATED:20250609T063943Z
LAST-MODIFIED:20250609T063943Z
UID:3512-1749313800-1749313800@vivibollate.it
SUMMARY:BIBLIOFILO
DESCRIPTION:Sabato 7 giugno\, ore 16.30 \n  \nPortare il proprio materiale e strumenti di lavoro per trascorrere del tempo insieme lavorando a maglia e uncinetto! \nDurata: 1\,5h \n  \nPer informazioni – Biblioteca Comunale
URL:https://vivibollate.it/evento/bibliofilo-2/
LOCATION:Biblioteca Bollate centro\, Piazza C.A. Dalla Chiesa\, 30\, Bollate\, MI\, 20021
CATEGORIES:Adulti,Biblioteca,gruppo di lettura,Lettura
ATTACH;FMTTYPE=image/png:https://vivibollate.it/wp-content/uploads/2025/05/2025_06_07__bibliofilo_post-IG.png
ORGANIZER;CN="Assessorato alla Cultura e Pace":MAILTO:cultura@comune.bollate.mi.it
END:VEVENT
BEGIN:VEVENT
DTSTART;VALUE=DATE:20250613
DTEND;VALUE=DATE:20250621
DTSTAMP:20260423T000333
CREATED:20250527T064812Z
LAST-MODIFIED:20250527T064833Z
UID:3505-1749772800-1750463999@vivibollate.it
SUMMARY:NATI PER LEGGERE
DESCRIPTION:Venerdì 13 giugno – ore 10.30\nVenerdì 20 giugno – ore 10.30 \n  \nUltimi due appuntamenti prima dell’estate per gli incontri Nati per Leggere\, il progetto dedicato alla lettura dei piccolissimi fra i 3 e i 12 mesi. \n13 giugno – Leggere con tutti i sensi\, una guida per genitori e futuri lettori.\n20 giugno – In viaggio tra le storie \n  \nIngresso libero con prenotazione obbligatoria:\nMarisa Piuri\, Consultorio Familiare\, tel: 02994305039 \nBeatrice Cimbro\, Biblioteca\, tel: 0235005508 \n 
URL:https://vivibollate.it/evento/nati-per-leggere-3/
LOCATION:Biblioteca Bollate centro\, Piazza C.A. Dalla Chiesa\, 30\, Bollate\, MI\, 20021
CATEGORIES:Bambini,Biblioteca,Lettura
ATTACH;FMTTYPE=image/png:https://vivibollate.it/wp-content/uploads/2025/05/2025_giugno_npl_post.png
ORGANIZER;CN="Assessorato alla Cultura e Pace":MAILTO:cultura@comune.bollate.mi.it
END:VEVENT
BEGIN:VEVENT
DTSTART;VALUE=DATE:20251128
DTEND;VALUE=DATE:20251202
DTSTAMP:20260423T000333
CREATED:20251128T112541Z
LAST-MODIFIED:20251201T111632Z
UID:3593-1764288000-1764633599@vivibollate.it
SUMMARY:MOSTRA MERCATO
DESCRIPTION:Si terrà dal 28 novembre al 5 dicembre la Mostra mercato del libro per ragazzi in Biblioteca centrale\, durante l’orario di apertura. Accanto all’iniziativa\, tanti eventi collaterali che animano la settimana. \nIl programma: \nVenerdì 28 novembre\, ore 18\,00 \nLa notte dei pupazzi \nVieni con il tuo pupazzo\, ascolta una storia con i bibliotecari e lascialo una notte in biblioteca! \nLa mattina dopo ti aspettiamo alle ore 9.30 per la colazione e per scoprire che cosa è successo. \nFascia d’età: 2-8 anni. Ingresso libero senza prenotazione \nSabato 29 novembre\, ore 10\,30 \nPalla Pallina. La pallina animaletto e quella che suona\, la pallina che semina il sale e quella morbida che si lascia mordere\, la pallina che punge e… poi luci colorate che rotolano insieme alle musiche. Spettacolo di e con Cristina Calì. Fascia d’età: 1-4 anni. Ingresso libero senza prenotazione \nSabato 29 novembre\, ore 15\,30 \nDi Elfi e di asini. Una storia natalizia dei fratelli Grimm per scoprire il valore del dono e della gratitudine\, accompagnata dall’ukulele. A cura della compagnia teatrale La Fa Bù. Fascia d’età 4-10 anni. Ingresso libero senza prenotazione \nSabato 29 novembre\, ore 16 \nBibliofilo bambini: alberelli serpentelli. Portare lana\, cotone o fettuccia rossa. A cura delle volontarie Annalisa e Beatrice. Fascia d’età 8-12 anni. Prenotazione obbligatoria \nMartedì 2 dicembre e giovedì 4 dicembre\, ore 10\,30 \nLetture piccine picciò. Baby letture per piccoli esploratori con genitori\, nonni e tate. Con Beatrice e Marisa. Fascia d’età 1-2 anni. Ingresso libero senza prenotazione \nMercoledì 3 dicembre\, ore 17\,00 \nFilarello e altre storie di Natale \nFascia d’età 3-9 anni. Ingresso libero senza prenotazione \nVenerdì 5 dicembre\, ore 16\,45 \nAspettando il Natale. Letture a tema natalizio e creazione di addobbi con materiale di riciclo \nFascia d’età 2-8 anni. Ingresso libero senza prenotazione \nPER CONCLUDERE: Evento speciale Sabato 6 dicembre ore 18\,45 | Ritorno ad Hogwarts  \nI primi 25 bambini che acquisteranno un libro alla mostra mercato saranno automaticamente iscritti alla serata speciale. Riuscirai a scoprire il segreto di Hermione e a salvare l’Ippogrifo? Scoprirai dove si nasconde Sirius Black? Vivrai un’esperienza interattiva tra giochi\, magie\, scherzi e misteri accompagnata da una pizza insieme ai personaggi di J. K. Rowling. Puoi venire in costume da streghetta o maghetto! Porta la tua bacchetta magica! Il binario 9 e ¾ ti aspetta! \nA cura dei bibliotecari e dei volontari della biblioteca Fascia d’età 6-10 anni \nOrari  \nMostra mercato: da martedì 25 a venerdì 28 novembre e lunedì 1 dicembre\, ore 9-19\,15; sabato 29 novembre\, ore 9-18; domenica chiuso \nPer informazioni: Biblioteca\, tel 02 35005508; mail: biblioteca.bollate@csbno.net
URL:https://vivibollate.it/evento/mostra-mercato/
LOCATION:Biblioteca Bollate centro\, Piazza C.A. Dalla Chiesa\, 30\, Bollate\, MI\, 20021
CATEGORIES:Adulti,Bambini,Biblioteca,giovani adulti,laboratorio creativo,Lettura,primissima infanzia
ATTACH;FMTTYPE=image/png:https://vivibollate.it/wp-content/uploads/2025/11/mostra-mercato.png
ORGANIZER;CN="Assessorato alla Cultura e Pace":MAILTO:cultura@comune.bollate.mi.it
END:VEVENT
END:VCALENDAR