BEGIN:VCALENDAR
VERSION:2.0
PRODID:-//ViviBollate - ECPv6.15.13//NONSGML v1.0//EN
CALSCALE:GREGORIAN
METHOD:PUBLISH
X-WR-CALNAME:ViviBollate
X-ORIGINAL-URL:https://vivibollate.it
X-WR-CALDESC:Eventi per ViviBollate
REFRESH-INTERVAL;VALUE=DURATION:PT1H
X-Robots-Tag:noindex
X-PUBLISHED-TTL:PT1H
BEGIN:VTIMEZONE
TZID:Europe/Rome
BEGIN:DAYLIGHT
TZOFFSETFROM:+0100
TZOFFSETTO:+0200
TZNAME:CEST
DTSTART:20220327T010000
END:DAYLIGHT
BEGIN:STANDARD
TZOFFSETFROM:+0200
TZOFFSETTO:+0100
TZNAME:CET
DTSTART:20221030T010000
END:STANDARD
BEGIN:DAYLIGHT
TZOFFSETFROM:+0100
TZOFFSETTO:+0200
TZNAME:CEST
DTSTART:20230326T010000
END:DAYLIGHT
BEGIN:STANDARD
TZOFFSETFROM:+0200
TZOFFSETTO:+0100
TZNAME:CET
DTSTART:20231029T010000
END:STANDARD
BEGIN:DAYLIGHT
TZOFFSETFROM:+0100
TZOFFSETTO:+0200
TZNAME:CEST
DTSTART:20240331T010000
END:DAYLIGHT
BEGIN:STANDARD
TZOFFSETFROM:+0200
TZOFFSETTO:+0100
TZNAME:CET
DTSTART:20241027T010000
END:STANDARD
END:VTIMEZONE
BEGIN:VEVENT
DTSTART;TZID=Europe/Rome:20230505T210000
DTEND;TZID=Europe/Rome:20230505T220000
DTSTAMP:20260424T083153
CREATED:20230428T094532Z
LAST-MODIFIED:20230428T094532Z
UID:2282-1683320400-1683324000@vivibollate.it
SUMMARY:Lettura dei promessi sposi
DESCRIPTION:In occasione dei 150 anni dalla morte di Manzoni\, andrà in scena\, una lettura animata e arricchita dei Promessi Sposi\, in collaborazione con Teatro Gost e Moviteatro APS – Spazio Teatro Rem\, che con la loro interpretazione daranno vita ai personaggi del romanzo. \nINGRESSO GRATUITO fino esaurimento posti \nInformazioni presso l’Ufficio Cultura del Comune di Bollate (0235005575 – cultura@comune.bollate.mi.it)
URL:https://vivibollate.it/evento/lettura-dei-promessi-sposi/
LOCATION:Biblioteca Bollate centro\, Piazza C.A. Dalla Chiesa\, 30\, Bollate\, MI\, 20021
CATEGORIES:Adulti,Biblioteca,Lettura,romanzo,storia,teatro
ATTACH;FMTTYPE=image/jpeg:https://vivibollate.it/wp-content/uploads/2023/04/MANZONI.jpeg
ORGANIZER;CN="Assessorato alla Cultura e Pace":MAILTO:cultura@comune.bollate.mi.it
END:VEVENT
END:VCALENDAR