BEGIN:VCALENDAR
VERSION:2.0
PRODID:-//ViviBollate - ECPv6.15.13//NONSGML v1.0//EN
CALSCALE:GREGORIAN
METHOD:PUBLISH
X-WR-CALNAME:ViviBollate
X-ORIGINAL-URL:https://vivibollate.it
X-WR-CALDESC:Eventi per ViviBollate
REFRESH-INTERVAL;VALUE=DURATION:PT1H
X-Robots-Tag:noindex
X-PUBLISHED-TTL:PT1H
BEGIN:VTIMEZONE
TZID:Europe/Rome
BEGIN:DAYLIGHT
TZOFFSETFROM:+0100
TZOFFSETTO:+0200
TZNAME:CEST
DTSTART:20240331T010000
END:DAYLIGHT
BEGIN:STANDARD
TZOFFSETFROM:+0200
TZOFFSETTO:+0100
TZNAME:CET
DTSTART:20241027T010000
END:STANDARD
BEGIN:DAYLIGHT
TZOFFSETFROM:+0100
TZOFFSETTO:+0200
TZNAME:CEST
DTSTART:20250330T010000
END:DAYLIGHT
BEGIN:STANDARD
TZOFFSETFROM:+0200
TZOFFSETTO:+0100
TZNAME:CET
DTSTART:20251026T010000
END:STANDARD
BEGIN:DAYLIGHT
TZOFFSETFROM:+0100
TZOFFSETTO:+0200
TZNAME:CEST
DTSTART:20260329T010000
END:DAYLIGHT
BEGIN:STANDARD
TZOFFSETFROM:+0200
TZOFFSETTO:+0100
TZNAME:CET
DTSTART:20261025T010000
END:STANDARD
END:VTIMEZONE
BEGIN:VEVENT
DTSTART;TZID=Europe/Rome:20250704T210000
DTEND;TZID=Europe/Rome:20250704T210000
DTSTAMP:20260425T161538
CREATED:20250417T105805Z
LAST-MODIFIED:20250417T105805Z
UID:3380-1751662800-1751662800@vivibollate.it
SUMMARY:40 FINGERS
DESCRIPTION:Venerdì 4 luglio 2025 – ore 21.00 \n\n\nMatteo Brenci\nEmanuele Grafitti\nEnrico Maria Milanesi\nAndrea Vittorio \n  \nSi chiamano 40 FINGERS\, sono italiani e sono il fenomenale quartetto di chitarristi che a suon di milioni di visualizzazioni sta conquistando i social in tutto il mondo con le proprie magistrali rivisitazioni e riarrangiamenti di celebri brani rock\, pop e colonne sonore del cinema\, delle serie tv e un endorsement ufficiale come quello dei Queen\, che hanno applaudito e pubblicato sul loro sito ufficiale (official Queen website) la versione a “40 dita” di Bohemian Rhapsody.\nNumerose star della musica nazionale e internazionale li hanno voluti per duettare assieme: da Andrea Bocelli alla cantante statunitense Tory Kelly\, passando per Andy Summers dei The Police per rivisitare la celebre “Bring on the Night”.\nOgnuno con una forte storia musicale e un background diverso\, i quattro musicisti assieme esplorano nel nome del fingerpicking nuovi universi sonori\, proponendo un vasto repertorio che parte dalla rivisitazione per quattro chitarre di brani rock e pop per arrivare alle loro composizioni originali. La passione condivisa per il mondo del cinema e delle serie tv li ha portati a cimentarsi anche in una serie di originali arrangiamenti a “40 dita” di famose colonne sonore\, tra cui Star Wars\, L’Ultimo dei Mohicani\, un sensazionale medley della Disney e il medley di Harry Potter.\nIl palco è la dimensione naturale dei 40 FINGERS che\, accompagnati da una produzione visiva altamente spettacolare ideata da alcuni tra i migliori light designer europei\, proiettano il pubblico in un viaggio musicale senza confini linguistici e geografici attraverso le loro versioni di Sultans of Swing\, Africa\, Sound of Silence\, Bohemian Rhapsody\, Last of Mohicans\, Libertango e altri brani che spaziano tra i generi a 360 gradi\, unendo ed emozionando gli amanti della musica. \n  \n© Credit photo Simone Di Luca \n  \nPosto unico numerato: € 25\,00 + prevendita\nPrevendite: \nhttps://www.ticketmaster.it/artist/festival-villa-arconati-biglietti/1410873 \n 
URL:https://vivibollate.it/evento/40-fingers/
LOCATION:Villa Arconati\, Via Madonna Fametta\, 1\, Bollate\, Milano\, 20021\, Italia
CATEGORIES:Adulti,Bambini,Castellazzo,concerto,Villa Arconati
ATTACH;FMTTYPE=image/png:https://vivibollate.it/wp-content/uploads/2025/04/FVA25-40fingers.png
ORGANIZER;CN="Assessorato alla Cultura e Pace":MAILTO:cultura@comune.bollate.mi.it
END:VEVENT
BEGIN:VEVENT
DTSTART;TZID=Europe/Rome:20250706T060000
DTEND;TZID=Europe/Rome:20250706T060000
DTSTAMP:20260425T161538
CREATED:20250417T105712Z
LAST-MODIFIED:20250417T105712Z
UID:3384-1751781600-1751781600@vivibollate.it
SUMMARY:SEMPLICEMENTE FRIDA IN TOUR con Mark Glentworth
DESCRIPTION:Domenica 6 luglio 2025 – ore 06.00 \n\n\n\nDopo il grande successo riscontrato nelle sue precedenti tournée\, dove ha conquistato il pubblico italiano e straniero con il suo talento e la sua personalità\, Frida riparte con un nuovo tour dal titolo “Semplicemente Frida”\, che segna l’inizio di una nuova e vibrante fase della sua carriera musicale. \nCon questo nuovo spettacolo\, Frida Bollani Magoni\, da oggi semplicemente “Frida”\, si presenta al pubblico con una proposta artistica più matura e autentica\, pronta ad abbandonare le etichette per abbracciare una dimensione più personale e intima. Il tour è anche un’opportunità per scoprire il nuovo suono della sua musica. Con sonorità più moderne e contemporanee\, grazie all’inserimento di strumenti elettronici\, il nuovo repertorio include brani originali\, che riflettono la sua evoluzione artistica\, insieme a nuove interpretazioni di successi internazionali. Ad accompagnarla sul palco\, il musicista britannico Mark Glentworth\, che contribuisce a dare una nuova energia alla performance e un ulteriore arricchimento musicale. \n“Dopo questi cinque meravigliosi anni – commenta Frida – pieni di esperienze fantastiche\, il 2025 rappresenta un cambiamento\, e io non vedo l’ora di presentarvi la Frida che preferisco\, la Frida più adulta\, che però non smetterà mai di imparare\, e che affronta la vita con un sorriso. In questo spettacolo porteremo più tecnologia sul palco e tanta\, bella musica nuova\, grazie anche al mio collaboratore musicale Mark Glentworth e a tutto il mio team che mi aiuta sempre tanto nel realizzare le mie idee. Non vedo l’ora di salire sul palco!” \nUn’altra novità che accompagna il tour è la scelta di Frida di suonare il pianoforte elettrico\, un elemento che contribuirà a dare un carattere più moderno e dinamico alla sua performance. Inoltre\, in un segno di intimità e di connessione diretta con il pubblico\, Frida si esibirà rivolta verso gli spettatori\, per rendere ogni concerto un momento di vicinanza e condivisione. \nFrida è\, inoltre\, già al lavoro sul suo nuovo album\, che potrebbe vedere la luce nel corso del 2025\, segnando un ulteriore passo nella sua crescita artistica. Il nuovo disco\, in fase di produzione\, promette di essere un nuovo capitolo musicale ricco di sorprese\, in perfetta sintonia con il suo nuovo sound e il suo approccio più intimo e personale. \n  \n\n\n© Credit photo Francesco Prandoni \n\n\nPosto unico numerato: € 12\,00 + prevendita\n\n  \nPrevendite: \nhttps://www.ticketmaster.it/artist/festival-villa-arconati-biglietti/1410873
URL:https://vivibollate.it/evento/semplicemente-frida-in-tour-con-mark-glentworth/
LOCATION:Villa Arconati\, Via Madonna Fametta\, 1\, Bollate\, Milano\, 20021\, Italia
CATEGORIES:Adulti,Bambini,Castellazzo,concerto,Villa Arconati
ATTACH;FMTTYPE=image/png:https://vivibollate.it/wp-content/uploads/2025/04/FVA25-frida.png
ORGANIZER;CN="Assessorato alla Cultura e Pace":MAILTO:cultura@comune.bollate.mi.it
END:VEVENT
BEGIN:VEVENT
DTSTART;TZID=Europe/Rome:20250710T210000
DTEND;TZID=Europe/Rome:20250710T210000
DTSTAMP:20260425T161538
CREATED:20250418T122918Z
LAST-MODIFIED:20250418T122918Z
UID:3411-1752181200-1752181200@vivibollate.it
SUMMARY:EUGENIO IN VIA DI GIOIA
DESCRIPTION:Giovedì 10 luglio\, ore 21 \n  \nNascono per strada nel 2013\, suonando letteralmente ovunque\, dalle vie di Torino passano ai club\, ai festival estivi. \nNel 2020 vincono il premio della critica “Mia Martini” a Sanremo in soli 7 minuti di permanenza sul palco… immaginate cosa può succedere in un concerto che dura 2 ore! \n“L’amore è tutto”\, il nuovo album degli EUGENIO IN VIA DI GIOIA è un disco fatto di esperienze quotidiane stratificate\, registrate e lasciate fluire\, fatto di pranzi in studio\, di passeggiate\, gelati e chiacchierate. Fatto di persone che entrano e persone che escono. Fuori dal controllo e dentro la realtà\, questo album è stato una bottiglia con dentro un messaggio nel mare\, poi un bicchiere mezzo pieno\, poi un bicchiere mezzo vuoto\, uno specchio appannato\, piano piano sono comparse delle scritte fatte con le dita\, uno scarabocchio che si evolve in disegno. È un disco pieno d’amore\, non nella forma ma nella sostanza\, non tanto nel cosa viene detto ma piuttosto nel come è ciclicamente diventato. Un progetto che racconta quello che si ascolta e che è servito agli Eugenio in Via Di Gioia per esprimere\, amore\, gioia\, piacere ma anche disagio\, insofferenza. Per mettere tutto nero su bianco\, olio su tela\, note nell’aria\, byte su silicio\, e farlo fluire. \nContiene 10 tracce che raccontano un viaggio emozionale che mostra come l’amore sia il filo conduttore che lega ogni esperienza umana ed è uscito\, oltre che in digitale\, in CD\, Vinile standard (nero) e Vinile edizione limitata (trasparente)\, comprensivi entrambi di un inserto speciale creato dalla band\, 33 carte dei tarocchi rivisitate. \n  \n© Credit photo Azzurra_Primavera \n  \nPrimo settore € 25\,00 + prevendita  \nSecondo settore € 22\,00 + prevendita
URL:https://vivibollate.it/evento/eugenio-in-via-di-gioia/
LOCATION:Villa Arconati\, Via Madonna Fametta\, 1\, Bollate\, Milano\, 20021\, Italia
CATEGORIES:Adulti,Bambini,Castellazzo,concerto,Villa Arconati
ATTACH;FMTTYPE=image/png:https://vivibollate.it/wp-content/uploads/2025/04/FVA25-eugenio.png
ORGANIZER;CN="Assessorato alla Cultura e Pace":MAILTO:cultura@comune.bollate.mi.it
END:VEVENT
BEGIN:VEVENT
DTSTART;TZID=Europe/Rome:20250713T210000
DTEND;TZID=Europe/Rome:20250713T210000
DTSTAMP:20260425T161538
CREATED:20250417T111300Z
LAST-MODIFIED:20250612T071710Z
UID:3389-1752440400-1752440400@vivibollate.it
SUMMARY:TONY HADLEY
DESCRIPTION:Domenica 13 luglio 2025 – ore 21.00\n\nTony Hadley torna in tour in Italia con “Tony Hadley 45”\, una serie di concerti che celebrano un traguardo straordinario: quarantacinque anni di carriera. Un viaggio lungo decenni\, segnato da successi\, esibizioni in tutto il mondo e da una voce inconfondibile che continua a emozionare intere generazioni. \n“Tony Hadley 45” non è solo un titolo\, ma il simbolo di una storia musicale senza tempo. Un numero che racchiude l’essenza della sua carriera: 45 come gli anni trascorsi sul palco con passione\, 45 come i giri dei vinili che hanno fatto la storia del pop e del rock\, un universo di cui Hadley è parte integrante\, prima con il suo ex gruppo\, gli Spandau Ballet\, poi come solista. 45 come i viaggi intorno al mondo che ogni anno lo portano a esibirsi davanti a pubblici sempre entusiasti\, mantenendo viva la magia della sua musica. \nHadley porterà sul palco il meglio del suo repertorio\, dagli iconici brani che lo hanno reso celebre a livello internazionale alle hit della sua carriera solista\, senza tralasciare cover sorprendenti. Ad accompagnarlo\, la sua inseparabile Fabulous TH Band\, un ensemble di musicisti di altissimo livello con cui ha costruito un’intesa perfetta. Insieme\, trasformano ogni concerto in un’esplosione di energia\, perfettamente in sintonia con la potenza vocale di Tony Hadley e la sua incredibile capacità di coinvolgere il pubblico. \n“È incredibile pensare al percorso che ho fatto\, dagli inizi fino a oggi. Sono grato ogni giorno per questa avventura straordinaria e non vedo l’ora di tornare sul palco per condividere con il pubblico un viaggio musicale che attraversa tutta la mia storia. La scaletta sarà un’esperienza emozionante\, con le hit che tutti conoscono\, i miei brani solisti e alcune cover che amo particolarmente. Sarà uno spettacolo ricco di energia\, emozione e\, ovviamente\, grande musica. Con me la mia Fabulous TH Band\, la loro energia è travolgente e spero che il pubblico possa divertirsi tanto quanto noi ci divertiamo a suonare. Ogni volta che torno in Italia l’affetto che ricevo è semplicemente incredibile. Ci vediamo presto!”\n– Tony Hadley. \n  \nPrimo settore: € 40\,00 + prevendita\nSecondo settore: € 37\,00 + prevendita \n  \nPrevendite: \nhttps://www.ticketmaster.it/artist/festival-villa-arconati-biglietti/1410873
URL:https://vivibollate.it/evento/tony-hadley/
LOCATION:Milano
CATEGORIES:Adulti,Bambini,Castellazzo,concerto,Villa Arconati
ATTACH;FMTTYPE=image/png:https://vivibollate.it/wp-content/uploads/2025/04/FVA25-Tony.png
END:VEVENT
BEGIN:VEVENT
DTSTART;TZID=Europe/Rome:20250715T210000
DTEND;TZID=Europe/Rome:20250715T210000
DTSTAMP:20260425T161538
CREATED:20250417T105620Z
LAST-MODIFIED:20250417T110144Z
UID:3396-1752613200-1752613200@vivibollate.it
SUMMARY:ANGELO BRANDUARDI
DESCRIPTION:Martedì 15 luglio 2025 – ore 21.00 \n\n  \n\nIn occasione degli 800 anni dalla stesura del Cantico delle Creature\, prende vita il nuovo tour di Angelo Branduardi: “Il Cantico”. \nUn evento unico che trasporterà il pubblico in un viaggio musicale e spirituale attraverso la vita e le parole di San Francesco d’Assisi\, figura iconica di luce\, povertà\, letizia e poesia. \nIl tour si ispira alla figura solare e vitale del “Poverello di Assisi\,” come racconta lo stesso Branduardi:\n“La vita di San Francesco d’Assisi è quella di un uomo che diventa Santo… un uomo (e quindi un Santo) che sceglie la gioia di vivere\, la raccomanda ai suoi discepoli\, ama la povertà ‘mai disgiunta dalla letizia’… Francesco è oggi più che mai Santo\, ma è anche grande poeta; amava cantare e lo faceva spesso\, anche da solo… io ho provato a ridare voce alle sue parole perché si possa di nuovo cantarle.” Il Cantico sarà un’occasione per rivivere la profondità degli scritti francescani e lasciarsi ispirare dai temi contemporanei che San Francesco\, già nel suo tempo\, sapeva incarnare con straordinaria modernità: povertà\, ecologia\, amore per la vita e accoglienza. \nPer l’occasione Branduardi tornerà a calcare i palchi con la band al completo: Fabio Valdemarin alle tastiere\, Nicola Oliva alle chitarre\, Stefano Olivato al basso\, Davide Ragazzoni alla batteria. \nUn appuntamento imperdibile che unisce la musica al messaggio di speranza e amore universale di San Francesco. \n\n\n  \n© Credit photo Adolfo Ranise \n\n  \nPrimo settore: € 30\,00 + prevendita\nSecondo settore: € 27\,00 + prevendita \n  \nPrevendite: \nhttps://www.ticketmaster.it/artist/festival-villa-arconati-biglietti/1410873
URL:https://vivibollate.it/evento/angelo-branduardi/
LOCATION:Villa Arconati\, Via Madonna Fametta\, 1\, Bollate\, Milano\, 20021\, Italia
CATEGORIES:Adulti,Bambini,Castellazzo,concerto,Villa Arconati
ATTACH;FMTTYPE=image/png:https://vivibollate.it/wp-content/uploads/2025/04/FVA25-angelo.png
ORGANIZER;CN="Assessorato alla Cultura e Pace":MAILTO:cultura@comune.bollate.mi.it
END:VEVENT
BEGIN:VEVENT
DTSTART;TZID=Europe/Rome:20250716T210000
DTEND;TZID=Europe/Rome:20250716T210000
DTSTAMP:20260425T161538
CREATED:20250418T122907Z
LAST-MODIFIED:20250418T123009Z
UID:3415-1752699600-1752699600@vivibollate.it
SUMMARY:VALERIO LUNDINI E I VAZZANIKKI
DESCRIPTION:Mercoledì 16 luglio\, ore 21 \nValerio Lundini nasce a Roma nel 1986. Si diploma alla Scuola Romana dei Fumetti e inizia a scrivere abitualmente sulla rivista Linus. Dal 2009 suona e canta nei Vazzanikki.  \nDopo aver lavorato per diversi anni dietro le quinte come autore TV e radio\, collaborando\, tra gli altri\, con Nino Frassica\, Lillo & Greg\, nel 2019 partecipa al programma Battute? in onda in seconda serata su Rai 2 e si fa notare subito dal pubblico e dagli addetti ai lavori.  \nNel 2020 partecipa come co-conduttore al programma L’Altro Festival\, nuova versione del Dopo Festival di Sanremo\, in streaming su RaiPlay. Sempre nel 2020 arriva il suo primo ruolo da conduttore principale nel programma Una pezza di Lundini che diventa immediatamente virale sui social. Il 4 marzo dello stesso anno duetta in diretta su Rai 1 con Fulminacci nella 70esima edizione del Festival di Sanremo\, interpretando insieme al cantautore romano – ed arricchendo a modo suo – la canzone Penso Positivo di Jovanotti.  \nDopo il successo televisivo ottenuto con il suo programma\, nell’estate 2021 e nell’inverno 2021/2022 porta in scena in due tour il suo spettacolo Il Mansplaning spiegato a mia figlia\, prodotto da Do7 Factory e Vigna PR\, registrando tutti soldout. Con 60 repliche per tutto lo stivale\, lo show ha riscosso un enorme riscontro di pubblico e di consenso tra gli addetti ai lavori\, ribadendo la eclettica creatività come comico. \nA marzo del 2021 pubblica il suo primo libro “Era meglio il libro” e a novembre 2022 il secondo libro “Foto mosse di famiglie immobili”\, entrambi raccolte di racconti e schegge surreali e irresistibili pubblicati da Rizzoli Lizard. \nIn questi anni\, tra le sue celebri e assurde incursioni in tv e in radio\, dal “Festival di Sanremo” a “Danza Con Me” con Roberto Bolle\, spicca la partecipazione al Concertone di Roma del Primo Maggio 2022\, dove insieme alla sua band “I Vazzanikki” intona una canzone per la pace interrotta da una surreale finta telefonata del presidente Putin. \nA maggio 2023 riporta in scena lo spettacolo “Il Mansplaining spiegato a mia figlia” con due teniture al Teatro Ambra Jovinelli di Roma e al Teatro Franco Parenti di Milano e due grandi feste finali al Teatro Arcimboldi e alla Cavea dell’Auditorium Parco della Musica. Tutte le repliche sono soldout\, e consacrano lo spettacolo come una delle opere più sorprendenti e apprezzate\, sia dal pubblico che dalla critica\, della nuova scena autorale. A settembre 2023 esce nei cinema il film “Il più bel secolo della mia vita” che lo vede protagonista\, al fianco di Sergio Castellitto. Il film viene candidato ai David di Donatello per la categoria “Miglior canzone originale”\, scritta da Brunori Sas.  \nIl 2024 si apre con il suo secondo programma dal titolo Faccende Complicate\, su RaiPlay e successivamente Rai 3\, una serie di mockumentary scritti\, diretti e interpretati dallo stesso Lundini che ha riscosso un ottimo consenso di critica e pubblico. \n  \nPosto unico in piedi € 25\,00 + prevendita \n  \nPrevendite: \nhttps://www.ticketmaster.it/artist/festival-villa-arconati-biglietti/1410873
URL:https://vivibollate.it/evento/valerio-lundini-e-i-vazzanikki/
LOCATION:Villa Arconati\, Via Madonna Fametta\, 1\, Bollate\, Milano\, 20021\, Italia
CATEGORIES:Adulti,Bambini,Castellazzo,concerto,Villa Arconati
ATTACH;FMTTYPE=image/png:https://vivibollate.it/wp-content/uploads/2025/04/FVA25-lundini.png
ORGANIZER;CN="Assessorato alla Cultura e Pace":MAILTO:cultura@comune.bollate.mi.it
END:VEVENT
BEGIN:VEVENT
DTSTART;TZID=Europe/Rome:20250717T210000
DTEND;TZID=Europe/Rome:20250717T210000
DTSTAMP:20260425T161538
CREATED:20250417T105536Z
LAST-MODIFIED:20250417T105536Z
UID:3400-1752786000-1752786000@vivibollate.it
SUMMARY:SUPER TARANTA
DESCRIPTION:Giovedì 17 luglio 2025 – ore 21.00 \n\n\n\n\nDiretta da Antonio Castrignanò e Mauro Durante\, Super Taranta riunisce le personalità iconiche del mondo della pizzica salentina. Gli artisti più amati e noti della musica del Salento portano in scena la voce di un territorio che fa della sua identità locale un invito globale all’incontro e alla condivisione.\nNegli ultimi anni la musica pugliese ha lasciato il segno nel panorama internazionale\, vincendo premi prestigiosi e calcando palcoscenici importanti\, superando i confini territoriali ma soprattutto superando i confini folklorico-culturali a cui è stata associata per lunghi anni. \nIn Super Taranta le voci\, i musicisti e i ballerini che hanno reso la “Taranta” celebre in tutto il mondo condividono lo stesso palcoscenico per regalare al pubblico tutta la magia e la forza di una danza millenaria dal ritmo ancestrale\, per una grande festa collettiva. \nSuper Taranta Orchestra è formata da: Antonio Castrignanò\, Mauro Durante\, Alessia Tondo\, Emanuele Licci\, Enza Pagliara\, Giancarlo Paglialunga\, Giulio Bianco\, Federico Laganà\, Rocco Nigro\, Massimiliano Morabito\, Maurizio Pellizzari\, Giuseppe Spedicato\, Silvia Perrone\, Davide Monaco e Moira Cappilli. \n\n\n  \n© Credit photo Ste Brevetto \n  \nPosto unico in piedi/Intero: € 20\,00 + prevendita\n  \nPrevendite: \nhttps://www.ticketmaster.it/artist/festival-villa-arconati-biglietti/1410873 \n\n 
URL:https://vivibollate.it/evento/super-taranta/
LOCATION:Villa Arconati\, Via Madonna Fametta\, 1\, Bollate\, Milano\, 20021\, Italia
CATEGORIES:Adulti,Bambini,Castellazzo,concerto,Villa Arconati
ATTACH;FMTTYPE=image/png:https://vivibollate.it/wp-content/uploads/2025/04/FVA25-taranta.png
ORGANIZER;CN="Assessorato alla Cultura e Pace":MAILTO:cultura@comune.bollate.mi.it
END:VEVENT
END:VCALENDAR